BEGIN:VCALENDAR
VERSION:2.0
CALSCALE:GREGORIAN
METHOD:PUBLISH
BEGIN:VEVENT
SUMMARY:Coworking créatif : spécial contenu
DTSTART:20260420T080000Z
DTSTAMP:20260419T144314Z
CATEGORIES:
DESCRIPTION:Tu sais que tu dois être visible et publier régulièrement m
 ais prendre le temps de créer ton contenu n’est pas toujours simple qua
 nd on est seule derrière son écran...\nCe coworking est justement là po
 ur ça : un moment pour sortir de chez toi\, te poser et avancer concrète
 ment sur ton contenu dans une ambiance motivante entre entrepreneuses !\n\
 nNous commencerons par un rapide tour de table pour partager sur quoi chac
 une souhaite avancer : publication Instagram\, idée de post\, reel\, réd
 action\, planification…\n\nPuis place au coworking dans une atmosphère 
 studieuse\, bienveillante et inspirante\, chacune travaille à son rythme 
 tout en profitant de l’énergie du collectif et en faisant des rencontre
 s !\nEn fin de session\, celles qui le souhaitent pourront partager sur qu
 oi elles ont avancé\, leurs idées ou leurs créations\, un moment simple
  et efficace pour enfin prendre du temps pour ta visibilité !\nInclus dan
 s la session :\n\nune boisson\nune gourmandise\nun moment de coworking pou
 r avancer sur ton contenu\n\nAlors\, tu viens ?\nTarif total de l'événem
 ent : 25€ - Réserve ta place dès maintenant en réglant 15€ sur le s
 ite et complète le paiement avec 10€ supplémentaires le jour de l’é
 vénement sur place en espèces.\nTu es membre du club Girl Boss ? L'évé
 nement pour toi est inclus dans ton abonnement !
GEO:43.1230864;5.9313691
LOCATION:9 Rue César Vezzani 83000 Toulon - FR
ORGANIZER:Particulier
END:VEVENT
END:VCALENDAR
