BEGIN:VCALENDAR
VERSION:2.0
CALSCALE:GREGORIAN
METHOD:PUBLISH
BEGIN:VEVENT
SUMMARY:HSY FESTIVAL - STADE GASTON GÉRARD
DTSTART:20260523T140000Z
DTEND:20260523T215900Z
DTSTAMP:20260425T160830Z
CATEGORIES:
DESCRIPTION:Housology & DFCO présentent : HSY FESTIVAL\n16h00-00h00\n \n
 Housology passe à l’étape supérieure.\n \nDepuis le début\, le coll
 ectif construit son univers à travers des soirées intenses\, des clubs r
 emplis et une communauté qui grandit à chaque événement. Mais cette fo
 is\, l’histoire prend une toute autre dimension.\n \nCette fois\, Houso
 logy voit plus grand. Beaucoup plus grand.\n \nLe rendez-vous se tiendra 
 en bord de pelouse du stade Gaston-Gérard de Dijon\, transformé pour l
 ’occasion en véritable terrain de jeu pour la musique électronique.\n
  \nUne seule scène\, un concept House to Techno et 10 artistes qui se su
 ccéderont pour construire une montée en puissance musicale continue.\n 
 \nDe la house solaire et groovy aux sonorités techno les plus profondes\,
  chaque set fera monter la tension jusqu’à transformer le stade en danc
 efloor géant.\n \nDerrière les platines\, on retrouvera :\nASDEK - SPEE
 D89 - KETBI B2B PUMP - DAYCE B2B DOSSAN B2B KRD - DOUBLE MO - LCHAP - OLMA
  - DJ CONTEST\n \nUne production plus ambitieuse.\nUne scénographie pens
 ée pour le lieu.\nUn système son taillé pour l’open-air.\n \nCe qui 
 n’était jusqu’ici qu’une série de soirées devient désormais un v
 éritable festival !\n \nDijon s’apprête à vivre quelque chose de nou
 veau.\n \nBars et food sur place par Biscrocamp\n[PAIEMENT CB UNIQUEMENT]
GEO:47.3248039;5.069520700000001
LOCATION:PLACE GASTON GÉRARD / PORTE A - TRIBUNE DORAS 21000 Dijon - FR
ORGANIZER:SAS DFCO
END:VEVENT
END:VCALENDAR
