BEGIN:VCALENDAR
VERSION:2.0
CALSCALE:GREGORIAN
METHOD:PUBLISH
BEGIN:VEVENT
SUMMARY:RANDONÉE ÉTUDIANTE
DTSTART:20260419T110000Z
DTEND:20260419T140000Z
DTSTAMP:20260425T154006Z
CATEGORIES:
DESCRIPTION:\n« Bienvenue aux étudiants Grenoble Alpes »\n	 \n\nRand
 onnée en moyenne montagne\n\n	Participez à une randonnée exceptionnelle
  le 19 avril prochain au cœur des massifs entourant Grenoble\, un environ
 nement naturel unique et emblématique de la région Auvergne-Rhône-Alpes
 .\n\n	Les sentiers de moyenne montagne autour de la cuvette grenobloise co
 nstituent un terrain d'observation privilégié pour comprendre les écosy
 stèmes alpins\, la géologie locale et la gestion des espaces naturels pr
 otégés.\n\n	Si ces sommets sont visibles quotidiennement\, s'y aventurer
  nécessite une organisation rigoureuse. Cette sortie est une occasion con
 crète de découvrir la diversité des paysages du Vercors\, de la Chartre
 use ou de Belledonne à une période charnière de l'année.\n\n	Lors de c
 et itinéraire\, vous aurez l'opportunité d'observer l'éveil de la biodi
 versité printanière et de franchir différents paliers altitudinaux. Des
  points de vue panoramiques permettront d'analyser l'urbanisme de la vall
 ée sous un angle géographique nouveau. Ce moment sera également propice
  aux échanges entre participants dans un cadre favorisant la cohésion.\n
 \n	La sortie pourra être encadrée en français et en anglais pour ceux q
 ui le souhaitent.\n\nAttention : Votre inscription constitue un engagement
  ferme. Merci d'honorer votre présence le jour de la sortie\, car toute d
 éfection prive un autre étudiant d'une place limitée pour cette activit
 é en plein air.\n\n	Si l'évènement est complet\, tu peux toujours te me
 ttre sur liste d'attente\, en envoyant un mail à l'adresse ci-dessous.\n\
 nUne question ? Contacte nous à cette adresse : bienvenue.etu.grenoble.a
 lpes@gmail.com\n\n\n	--\n	 \n\n	Join us for an exceptional hike on April 
 19th in the heart of the mountain ranges surrounding Grenoble\, a unique a
 nd iconic natural environment of the Auvergne-Rhône-Alpes region.\n\n	The
  mid-mountain trails surrounding the Grenoble basin serve as a prime obser
 vation ground for understanding Alpine ecosystems\, local geology\, and th
 e management of protected natural areas.\n\n	While these peaks are visible
  daily\, venturing into them requires rigorous organization. This excursio
 n offers a concrete opportunity to discover the diversity of the Vercors\,
  Chartreuse\, or Belledonne landscapes during a pivotal time of the year.\
 n\n	Throughout this itinerary\, you will have the chance to observe the aw
 akening of spring biodiversity and traverse various altitudinal zones. Pan
 oramic viewpoints will allow for an analysis of the valley's urban layout 
 from a new geographical perspective. This event will also provide an ideal
  setting for participants to interact and build group cohesion.\n\n	The hi
 ke can be conducted in both French and English for those who wish.\n\nPlea
 se note: Your registration constitutes a firm commitment. We ask that you 
 honor your attendance on the day of the event\, as any absence deprives an
 other student of a limited spot for this outdoor activity.\n\n	If the even
 t is full\, you may join the waiting list by sending an email to the addre
 ss below.\n\nAny questions? Contact us at: bienvenue.etu.grenoble.alpes@gm
 ail.com\n\n	 \n\n	 \n
LOCATION: 38000 Grenoble - FR
ORGANIZER:GRENOBLE ALPES METROPOLE
END:VEVENT
END:VCALENDAR
