BEGIN:VCALENDAR
VERSION:2.0
CALSCALE:GREGORIAN
METHOD:PUBLISH
BEGIN:VEVENT
SUMMARY:Massage Concours Meilleur Praticien Visage France
DTSTART:20260328T091500Z
DTEND:20260328T161500Z
DTSTAMP:20260425T223308Z
CATEGORIES:
DESCRIPTION:Le 11 avril aura lieu le Concours du Meilleur Praticien Visage
  France\, et je m'y suis inscrite !\nVenez tester en avant-première sur l
 a Fête du Printemps\, le massage technique de 20 min que je proposerai au
  jury\, à la fois sculptant et relaxant\, ou venez observer la gestuelle 
 experte des massages facialistes :\nToutes les heures et pour seulement 7 
 personnes inscrites\, je vous proposerai ce massage qui j'espère remporte
 ra un prix\, au tarif de 20€.\nCe massage ne peut pas se proposer sur un
  homme avec barbe. Merci de ne pas venir maquillée !
GEO:48.909888;2.179816
LOCATION:Boulevard Carnot 78420 Carrières-sur-Seine - FR
ORGANIZER:Aux Bons Soins d'Emilie
END:VEVENT
END:VCALENDAR
