BEGIN:VCALENDAR
VERSION:2.0
CALSCALE:GREGORIAN
METHOD:PUBLISH
BEGIN:VEVENT
SUMMARY:Create N'Chill KOKO Rico
DTSTART:20260327T183000Z
DTSTAMP:20260420T222355Z
CATEGORIES:
DESCRIPTION:VENDREDI 27 MARS 2026 À 19H30 À Didikobag\nChose promise\, c
 hose dure ! Après Foufounez-moi\, venez assister à notre atelier créati
 f autour du sexe masculin. À cette occasion nous accueillons le Dr Maxime
  Tanguy Marquet qui viendra nous faire part de son expertise de profession
 nel concernant la santé sexuelle des hommes. Vous pourrez participer au q
 uizz de Sysy Natirel et échanger de manière plus approfondie sur le Masc
 ulin Sacré avec d'autres invités "surprise". \nInspiration garantie\, t
 echnique libre pour cet atelier. Amenez le matériel qui vous convient le 
 mieux. \nConseil//infos : @elosekhmet 0690530330
GEO:16.239351;-61.535849
LOCATION:Rue Lamartine 97110 Pointe-à-Pitre - GP
ORGANIZER:BOKONI
END:VEVENT
END:VCALENDAR
