BEGIN:VCALENDAR
VERSION:2.0
CALSCALE:GREGORIAN
METHOD:PUBLISH
BEGIN:VEVENT
SUMMARY:Aurore musicale : Cantabile et Gemme au chœur
DTSTART:20260612T060000Z
DTSTAMP:20260421T122323Z
CATEGORIES:
DESCRIPTION:Retrouvez les élèves au Café des Douves pour un moment musi
 cal et convivial partagé...\nLe concert dure une vingtaine de minutes\, p
 uis vous pouvez profiter d’un petit déjeuner offert par le Conservatoir
 e de Bordeaux et la Halle des Douves.\nAu programme de cette aurore musica
 le du vendredi 12 juin : Cantabile et Gemme au chœur .\nÀ vos réveils\
 , les élèves vous attendent dès 8h du matin !\n \n[en partenariat avec
  la Halle des Douves]\n \nOUVERTURE DES RÉSERVATIONS 1 MOIS A L'AVANCE\,
  SOIT LE 12/05 A 8H
GEO:44.8307355;-0.5661395000000001
LOCATION:4 Rue des Douves 33800 Bordeaux - FR
ORGANIZER:Conservatoire de Bordeaux - Jacques Thibaud
END:VEVENT
END:VCALENDAR
