BEGIN:VCALENDAR
VERSION:2.0
CALSCALE:GREGORIAN
METHOD:PUBLISH
BEGIN:VEVENT
SUMMARY:LILA-MAY
DTSTART:20261113T193000Z
DTSTAMP:20260420T060328Z
CATEGORIES:
DESCRIPTION:\n∆▼ LILA-MAY ∆▼ [ jazz pop ]\n~ Jazz-club ~\n\nHors d
 u temps\, et en plein dedans… C’est le paradoxe lumineux de ce premier
  mini album de Lila-May. \nLa lycéenne\, née dans le 95\, émigrée aux
  environs d’Angers avec sa famille\, où elle va au lycée quand elle n
 ’enregistre pas des chansons percutantes\, avait décoché une première
  salve il y  a quelques mois avec un inaugural “Ain’t Going Anywhere
 ”. Un titre qui amadouait Tik Tok (la chanteuse est mineure\, on le rap
 pelle). Il y avait là un piano malin\, et cette voix juvénile\, pourtant
  déjà mature dans son phrasé\, qui évoquait forcément une Amy Winehou
 se familière\, mais dans sa version solaire\, quand le drame n’avait pa
 s pris le pas sur l’éblouissement d’une âme pure transfigurée par l
 ’éternelle puissance du jazz.Dans cette famille où la musique est un d
 énominateur commun\, en pratique comme en écoute\, Lila-May cultive donc
  un intérêt particulier pour le jazz et les comédies musicales américa
 ines classiques. Elle écoute certes Billie Eilish\, Sabrina Carpenter ou 
 Laufey\, les chanteuses cultes de sa génération\, mais aussi Elvis Presl
 ey\, Ray Charles ou Frank Sinatra. \nL'EP "Out of Time" démontre l’ét
 endue du chemin parcouru et l’aisance acquise. Cinq chansons\, dont la r
 eprise déjà populaire\, augmentées d’une autre cover du “Dream A L
 ittle Dream Of Me”\, créée en 1931\, popularisé en version folk par T
 he Mamas & The Papas en 1968\, un standard revisité ici dans ce qui const
 itue l’essence de Lila-May\, un équilibre idéal entre le souffle éte
 rnel du jazz et l’aplomb d’une millenial qui chante comme si Billie Ho
 liday en personne lui avait versé le lait sur ses céréales tous les mat
 ins\, avant de sauter dans le bus scolaire.
LOCATION:Ouverture des portes à 20h00   - FR
ORGANIZER:Service Compris
END:VEVENT
END:VCALENDAR
