BEGIN:VCALENDAR
VERSION:2.0
CALSCALE:GREGORIAN
METHOD:PUBLISH
BEGIN:VEVENT
SUMMARY:Adopter les écogestes numériques x Orange & La Cybergrange
DTSTART:20260505T140000Z
DTEND:20260505T153000Z
DTSTAMP:20260422T202337Z
CATEGORIES:
DESCRIPTION:Découvrez comment adopter les bons réflexes pour un usage nu
 mérique plus durable.Apprenez à prolonger la durée de vie de vos appare
 ils\, à opter pour du matériel reconditionné et à mettre en pratique d
 e simples éco-gestes au quotidien.\n________________\nLe Shadok – 25 Pr
 esqu'île André Malraux - 67100 Strasbourg\nMardi 5 mai de 16h00 à 17h30
 \nTout public | 12 participant·es\nGratuit sur inscription.\nAtelier anim
 é par Orange & La Cybergrange.\n________________\nVous pouvez vous inscri
 re par téléphone au 03 68 98 70 35\, par mail à contact@shadok-strasbou
 rg.eu ou sur notre site internet shadok-strasbourg.eu/agenda.\n \nen cas 
 d'annulation de votre inscription\, merci de nous contacter par mail : con
 tact@shadok-strasbourg.eu
GEO:48.57396959999999;7.764062999999999
LOCATION:25 Presqu'île André-Malraux 67100 Strasbourg - FR
ORGANIZER:Le Shadok
END:VEVENT
END:VCALENDAR
