BEGIN:VCALENDAR
VERSION:2.0
CALSCALE:GREGORIAN
METHOD:PUBLISH
BEGIN:VEVENT
SUMMARY:Spectacle "Bulle et Bob au jardin" de Natalie Tual
DTSTART:20260506T083000Z
DTSTAMP:20260422T135428Z
CATEGORIES:
DESCRIPTION:\n	Un spectacle de contes réservé aux abonnés de l'Awena et
  du pass'média.\n\nDès 3 ans (L'Awena se réserve de le droit de demande
 r une pièce d'identité et de refuser l'entrée en cas de non respect des
  âges)\n\n	Vous et/ou votre enfant devez être abonné à la médiathèqu
 e Awena ou au Pass'média. La carte d'abonné vous sera demandée à l'ent
 rée.\n
LOCATION:51 avenue Georges Pompidou 29490 Guipavas - FR
ORGANIZER:Médiathèque Awena
END:VEVENT
END:VCALENDAR
