BEGIN:VCALENDAR
VERSION:2.0
CALSCALE:GREGORIAN
METHOD:PUBLISH
BEGIN:VEVENT
SUMMARY:Expérience | Komment ça va !
DTSTART:20260522T163000Z
DTEND:20260522T193000Z
DTSTAMP:20260424T132420Z
CATEGORIES:
DESCRIPTION:
GEO:49.1007931;6.2157708
LOCATION:4 Rue Marconi 57000 Metz - FR
ORGANIZER:DACOM FACTORY
END:VEVENT
END:VCALENDAR
