BEGIN:VCALENDAR
VERSION:2.0
CALSCALE:GREGORIAN
METHOD:PUBLISH
BEGIN:VEVENT
SUMMARY:Aria Topez - Dédicaces sur ticket - Festival du Livre de Paris 20
 26
DTSTART:20260417T150000Z
DTEND:20260418T100000Z
DTSTAMP:20260423T163708Z
CATEGORIES:
DESCRIPTION:
GEO:48.86590030000001;2.3138075
LOCATION:Avenue Winston Churchill 75008 Paris - FR
ORGANIZER:Plumes du Web
END:VEVENT
END:VCALENDAR
