BEGIN:VCALENDAR
VERSION:2.0
CALSCALE:GREGORIAN
METHOD:PUBLISH
BEGIN:VEVENT
SUMMARY:Du clic au déclic x Le Repaire
DTSTART:20260429T130000Z
DTEND:20260429T140000Z
DTSTAMP:20260422T202452Z
CATEGORIES:
DESCRIPTION:Pendant une heure\,  nous te proposons d’apprendre à mener
  l’enquête sur tes appareils capricieux : pourquoi ton grille-pain boud
 e ? Ton casque fait des siennes ? Grâce à des sites comme iFixit ou Eure
 ka\, tu verras comment identifier une panne en quelques clics et trouver d
 es solutions fiables.\nAvec des méthodes simples et ludiques\, tu apprend
 ras à repérer ce qui cloche et te lancer dans la réparation en toute co
 nfiance.\nCet atelier accessible à tous\, te permettra d'acquérir un vra
 i super-pouvoir : celui de sauver tes objets au lieu de les jeter !\n_____
 ___________\nLe Shadok – 25 Presqu'île André Malraux - 67100 Strasbour
 g\nMercredi 29 avril de 15h00 à 16h00\nTout public | 8 participant·es\nA
 telier animé par Le Repaire.\n________________\nVous pouvez vous inscrire
  par téléphone au 03 68 98 70 35\, par mail à contact@shadok-strasbourg
 .eu ou sur notre site internet shadok-strasbourg.eu/agenda.\n \nen cas d'
 annulation de votre inscription\, merci de nous contacter par mail : conta
 ct@shadok-strasbourg.eu
GEO:48.57396959999999;7.764062999999999
LOCATION:25 Presqu'île André-Malraux 67100 Strasbourg - FR
ORGANIZER:Le Shadok
END:VEVENT
END:VCALENDAR
