BEGIN:VCALENDAR
VERSION:2.0
CALSCALE:GREGORIAN
METHOD:PUBLISH
BEGIN:VEVENT
SUMMARY:Discovery Piscine Women - Réservée aux femmes / du 15 au 19 juin
  2026
DTSTART:20260615T070000Z
DTSTAMP:20260422T075210Z
CATEGORIES:
DESCRIPTION:Stage d’initiation à la programmation informatique avec la 
 méthode 42 – 100% Women Découvrez le code et initiez-vous à la progr
 ammation ! Date et heure : Du lundi 15 au vendredi 19 juin 2026\, de 9h à
  17h Lieu : 42 Perpignan Occitanie\, 5 rue Pierre Curie 66000 Perpignan 
 Vous avez toujours voulu apprendre à coder mais ne saviez pas par où com
 mencer ?Rejoignez-nous pour une expérience immersive 100% Women de 5 jour
 s où vous découvrirez les fondamentaux de la programmation\, même sans 
 aucune expérience préalable en informatique ! Pourquoi participer ?- Pa
 s besoin de connaissances spécifiques en informatique- Programme intensif
  de 5 jours pour toutes à partir de 16 ans- Découverte du code\, créati
 on de votre première page web avec HTML et CSS- Pas de cours traditionnel
 s\, mais un apprentissage collaboratif entre pairs- Expérience pratique e
 t concrète\, axée sur les projets Comment ça marche ?- Inscription gra
 tuite via Weezevent. Lien disponible sur notre Linktree : https://linktr.
 ee/42perpignan- Lieu : le campus 42 Perpignan Occitanie- Horaires : 9h00 
 – 17h00\, du lundi au vendredi À propos de @42Perpignan :Il s’agit d
 ’une formation unique en son genre\, ouverte à tous dès 18 ans\, sans 
 limite d’âge ni niveau d’études requis. Avec un taux d’employabili
 té de 100%\, notre méthode d’apprentissage favorise l’autonomie et l
 a résolution de problèmes concrets.Inscrivez-vous dès aujourd’hui et 
 prenez part à une semaine d’apprentissage réservée aux filles.
GEO:42.6987104;2.8886805
LOCATION:5 rue Pierre Curie 66000 Perpignan - FR
ORGANIZER:42 PERPIGNAN OCCITANIE
END:VEVENT
END:VCALENDAR
