BEGIN:VCALENDAR
VERSION:2.0
CALSCALE:GREGORIAN
METHOD:PUBLISH
BEGIN:VEVENT
SUMMARY:Printemps des Champagnes 2026
DTSTART:20260418T080000Z
DTEND:20260418T150000Z
DTSTAMP:20260421T165438Z
CATEGORIES:
DESCRIPTION:\n	Évènement privé réservé à tous les professinnels du v
 in et surtout du champagne.\n\n	Entrée gratuite sur inscription.\n\n	Vous
  : professionnels\, êtes les bienvenus pour découvrir ou redécouvrir de
 s Vignerons du Sézannais : tous récoltant-manipulants et passionnés.\n\
 n	 \n\n	Private event reserved for all wine professionals and especially 
 champagne.\n\n	Free admission upon registration.\n\n	You: professionals\, 
 are welcome to discover or rediscover the Vignerons of Sezanne: all harves
 ter-manipulators and enthusiasts.\n
LOCATION:96\, Place Drouet d'Erlon 51100 REIMS - FR
ORGANIZER:SECRAIE
END:VEVENT
END:VCALENDAR
