BEGIN:VCALENDAR
VERSION:2.0
CALSCALE:GREGORIAN
METHOD:PUBLISH
BEGIN:VEVENT
SUMMARY:13èmes Journées de Médecine d'Urgence du Pays Basque Intérieur
DTSTART:20261016T063000Z
DTEND:20261017T150000Z
DTSTAMP:20260421T153515Z
CATEGORIES:
DESCRIPTION:
LOCATION: 64120 Saint-Palais - FR
ORGANIZER:EDUPRAT FORMATIONS
END:VEVENT
END:VCALENDAR
