BEGIN:VCALENDAR
VERSION:2.0
CALSCALE:GREGORIAN
METHOD:PUBLISH
BEGIN:VEVENT
SUMMARY:ESTHER ABRAMI - 20H
DTSTART:20270312T190000Z
DTSTAMP:20260424T142055Z
CATEGORIES:
DESCRIPTION:Les Concerts CANTABILE et le Théâtre l’Empire ont l’honn
 eur d’accueillir Esther Abrami\, violoniste virtuose au rayonnement inte
 rnational.Révélée par son talent éclatant et suivie par un large publi
 c à travers le monde\, Esther Abrami incarne une nouvelle génération d
 ’artistes classiques : brillante\, audacieuse et profondément expressiv
 e. Son jeu allie finesse\, intensité et modernité\, avec une capacité r
 are à rendre chaque œuvre accessible et vibrante.À travers un programme
  mêlant chefs-d’œuvre du répertoire\, découvertes et compositions pe
 rsonnelles inspirantes\, elle propose une soirée élégante et captivante
 \, portée par la virtuosité et l’émotion.Un rendez-vous musical excep
 tionnel à Ajaccio.Réservez dès maintenant vos places.\n \n \nInformat
 ions spectacle :  www.corsicacantabile.com\nInformations : contact@empire
 .corsica\nRéservations PMR : christelle@empire.corsica 
GEO:41.9254665;8.738125199999999
LOCATION:30 Cours Napoléon 20000 Ajaccio - FR
ORGANIZER:Association Théâtre Empire
END:VEVENT
END:VCALENDAR
