BEGIN:VCALENDAR
VERSION:2.0
CALSCALE:GREGORIAN
METHOD:PUBLISH
BEGIN:VEVENT
SUMMARY:Journée Portes Ouvertes - 24 avril 2026 à 42 Perpignan Occitanie
DTSTART:20260424T080000Z
DTEND:20260424T150000Z
DTSTAMP:20260422T075231Z
CATEGORIES:
DESCRIPTION:Nouvelles Portes Ouvertes ! Nous vous accueillons le vendredi
  24 avril 2026 au 5 Rue Pierre Curie à Perpignan de 9h00 à 18h00  Lors 
 de cette journée portes ouvertes viens découvrir le campus\, échanger a
 vec les apprenants et le staff !  Pas d'horaire spécifique\, passe quand 
 tu le souhaites!Si jamais tu es déja dans le processus d'admissions\, sac
 he qu'un Check-In se tiendra ce jour même à 17h00\, inscris toi via ton 
 profil Admissions\,Pour les autres\, nous répondrons à toutes vos questi
 ons ! La porte ouverte de 42 c'est fait pour...?✔︎ pour toutes les p
 ersonnes qui sont intéressé·e·s par une formation en informatique hors
  norme✔︎ pour tous ceux et celles qui veulent faire du code\, mais qu
 i pensent (à tort) que ce n’est pas fait pour eux·elles✔︎pour tout
 es celles et ceux qui n’osent pas passer les tests d’admission seul·e
 ·s et qui préfèreraient les faire sur place✔︎pour toutes celles et 
 ceux qui souhaitent rencontrer nos courageux étudiants/piscineux et écha
 nger avec eux✔︎ pour tous ceux et celles qui voudraient en savoir plu
 s sur notre pédagogieComment se passe l'admission à 42 ?1. Passe les jeu
 x en ligne sur admissions.42perpignan.fr2. Participe à un de nos Check-I
 n ( réunion en présentiel et visite )3. Inscris toi aux prochaines sessi
 ons quand elles sortiront
GEO:42.6987104;2.8886805
LOCATION:5 Rue Pierre Curie 66000 Perpignan - FR
ORGANIZER:42 PERPIGNAN OCCITANIE
END:VEVENT
END:VCALENDAR
