BEGIN:VCALENDAR
VERSION:2.0
CALSCALE:GREGORIAN
METHOD:PUBLISH
BEGIN:VEVENT
SUMMARY:Cours préparatoires aux études universitaires (Charleroi) - édi
 tion 2026
DTSTART:20260824T060000Z
DTEND:20260904T144500Z
DTSTAMP:20260424T174408Z
CATEGORIES:
DESCRIPTION:\n	Consulte le genial.ly suivant pour découvrir quel(s) modul
 e(s) de cours préparatoires te sont conseillés en fonction de ton futur 
 choix d'études. Une fois le(s) module(s) identifié(s)\, inscris toi vi
 a la billetterie située en-dessous du genial.ly !\n\nPour plus d’inform
 ations\, rendez-vous sur www.umons.ac.be/courspreparatoires\n\n	 \n\n\n\
 n\n
LOCATION:Boulevard Solvay\, 31 6000 Charleroi - BE
ORGANIZER:UMONS
END:VEVENT
END:VCALENDAR
