BEGIN:VCALENDAR
VERSION:2.0
CALSCALE:GREGORIAN
METHOD:PUBLISH
BEGIN:VEVENT
SUMMARY:Alsace Business Connect 2026
DTSTART:20260604T150000Z
DTEND:20260604T190000Z
DTSTAMP:20260423T031732Z
CATEGORIES:
DESCRIPTION:Alsace Business Connect 2026\nLe business se gagne en local !\
 nAlsace Business Connect (ABC) rassemble les acteurs économiques d’Alsa
 ce – entreprises\, institutions\, donneurs d’ordres et partenaires –
  autour d’un objectif commun : développer le business local en connecta
 nt les entreprises aux grands projets structurants du territoire et aux dy
 namiques économiques nationales.\nPensé comme un espace de rencontres et
  de mises en relation qualifiées\, ABC favorise les collaborations\, les 
 alliances stratégiques et les opportunités concrètes de développement 
 pour les entreprises.\nPour sa 3ᵉ édition\, ABC 2026 met l’accent sur
  la résilience économique du territoire\, dans un contexte de transforma
 tions industrielles\, énergétiques et technologiques.\nProgramme\n17h00 
 – Ouverture du Village Business Connect\n17h30 - Ouverture officielle en
  présence des élus et lancement de Focus Public\n18h00 – Table-ronde 
 “ Comment les entreprises peuvent-elles s’inscrire dans une dynamique 
 de résilience économique territoriale ? ”\n19h00 – Ouverture des tab
 les de l’apériscope\nLes villages thématiques\n\n\nIndustrie de la Dé
 fense et Armées\n\n\nÉnergie & développement durable\n\n\nMobilités & 
 transports\n\n\nFonctions supports & solutions\n\n\nDes espaces dédiés p
 our favoriser les rencontres\, les échanges et les opportunités de colla
 boration entre acteurs économiques du territoire.
GEO:47.3242669;5.0340547
LOCATION:120 Rue Lefebvre 68100 Mulhouse - FR
ORGANIZER:Just1Sense
END:VEVENT
END:VCALENDAR
