BEGIN:VCALENDAR
VERSION:2.0
CALSCALE:GREGORIAN
METHOD:PUBLISH
BEGIN:VEVENT
SUMMARY:Déjeuner de networking\, mardi 12 mai
DTSTART:20260512T103000Z
DTEND:20260512T123000Z
DTSTAMP:20260420T153017Z
CATEGORIES:
DESCRIPTION:\n\n\n\n\n\n\n\n\n									 \n\nSébillon\n\n20\, av Charles 
 de Gaulle\n\n92200 Neuilly sur Seine\n\n									 \n\nParticipation :\n\
 n									 \n\n•      Membres : 40 € TTC\n\n•      Dé
 couverte : 50 €  TTC limitée aux 5 premiers inscrits et valable une s
 eule fois\n\n									 \n\nEntrée + Plat ou Plat + Dessert -  Eau miné
 rale plate et gazeuze - café\n\nInscription obligatoire\n\nPetit salon\, 
 places limitées à 12 convives\n\n									 \n\n\n								 \n\n\n\n				
 		 \n\n\n\n\n\n\n		 \n\n\n\n	 \n
LOCATION:20\, av Charles de Gaulle 92200 NEUILLY SUR SEINE - FR
ORGANIZER:Club Edouard VII
END:VEVENT
END:VCALENDAR
