BEGIN:VCALENDAR
VERSION:2.0
CALSCALE:GREGORIAN
METHOD:PUBLISH
BEGIN:VEVENT
SUMMARY:Conférence : Prise en charge du patient en situation de handicap 
 et/ou en perte d’autonomie en service hospitalier
DTSTART:20260605T080000Z
DTEND:20260605T090000Z
DTSTAMP:20260424T154713Z
CATEGORIES:
DESCRIPTION:
GEO:44.9334612;4.902237899999999
LOCATION:55 Avenue de Romans 26000 Valence - FR
ORGANIZER:Cabinet S’HANDISTINCTION
END:VEVENT
END:VCALENDAR
