BEGIN:VCALENDAR
VERSION:2.0
CALSCALE:GREGORIAN
METHOD:PUBLISH
BEGIN:VEVENT
SUMMARY:Conférence :  Hospitalisation et maintien à domicile
DTSTART:20260604T130000Z
DTEND:20260604T140000Z
DTSTAMP:20260424T154714Z
CATEGORIES:
DESCRIPTION:
GEO:44.9334612;4.902237899999999
LOCATION:55 Avenue de Romans 26000 Valence - FR
ORGANIZER:Cabinet S’HANDISTINCTION
END:VEVENT
END:VCALENDAR
