BEGIN:VCALENDAR
VERSION:2.0
CALSCALE:GREGORIAN
METHOD:PUBLISH
BEGIN:VEVENT
SUMMARY:MILOU STYLE COIFFURE - TIKTOK LIVE
DTSTART:20260318T040000Z
DTSTAMP:20260422T123636Z
CATEGORIES:
DESCRIPTION:GOLDEN TICKET - MILOU STYLE\nOffre en cours - Stock limité\nM
 ilou Style Tahiti lance une opération exceptionnelle :\n100 Golden Ticket
 s seulement\n_______________________________________________________\n1 Go
 lden Ticket = 0 perte\, que du bonus\n \nChaque Golden Ticket vous offre 
 :\n\n1000 XPF de crédit coiffure (utilisable sur toutes les prestations e
 t produits\, hors promotions)\n+1 participation automatique au tirage au s
 ort du vendredi 10 avril 2026\nVotre golden ticket est entièrement utilis
 able au salon de coiffure Milou Style\n\n \n\n \nÀ gagner :\n1 mois de 
 coiffure en illimité (valeur 29 900 XPF)\nTirage au sort : vendredi 10 av
 ril 2026\n \n\n \nValidité du crédit coiffure: 6 mois à partir de la 
 date d’achat\n_______________________________________________________\n
  \nÉdition ultra limitée : 100 tickets uniquement\nUne fois les 100 Gol
 den Tickets vendus\, l’opération s’arrête définitivement.\n ______
 _________________________________________________\n Retrouvez-nous en liv
 e sur TikTok à 18h les mardis et jeudis pour participer aux ventes flash 
 et tenter de gagner des cadeaux en direct.\n______________________________
 _________________________\n \n \nBonne chance à tous et à très bient
 ôt chez Milou Style Tahiti
GEO:-17.5249639;-149.5255603
LOCATION: 98701 Arue - PF
ORGANIZER:Milou Style
END:VEVENT
END:VCALENDAR
