BEGIN:VCALENDAR
VERSION:2.0
CALSCALE:GREGORIAN
METHOD:PUBLISH
BEGIN:VEVENT
SUMMARY:Alexandro fait son Nougaro
DTSTART:20260522T190000Z
DTEND:20260522T204500Z
DTSTAMP:20260422T093920Z
CATEGORIES:
DESCRIPTION:\n	Concert au bénéfice de l'UNICEF et de l'Association Fibro
 ses Pulmonaires France\n
LOCATION:Place des consuls 46000 Cahors - FR
ORGANIZER:CAHORS GOSPEL FESTIVAL
END:VEVENT
END:VCALENDAR
