BEGIN:VCALENDAR
VERSION:2.0
CALSCALE:GREGORIAN
METHOD:PUBLISH
BEGIN:VEVENT
SUMMARY:Le Diner Clos au Clos Vougeot
DTSTART:20260428T170000Z
DTEND:20260428T230000Z
DTSTAMP:20260423T060620Z
CATEGORIES:
DESCRIPTION:\nEnglish below.\n\n\n	Le mardi 28 avril 2026\, La Folie de 
 Vougeot devient le théâtre d’un dîner ultra exclusif\, imaginé pou
 r seulement 12 convives.\n\n\nAprès plusieurs dîners d’exception en C
 hampagne\, nous avons souhaité écrire un nouveau chapitre.\n\n	Et cette
  fois\, direction la Bourgogne.\n\n	Pour cette soirée unique\, nous réu
 nissons deux figures majeures de la gastronomie et du vin.\n\nXavier Thui
 zat\,\n\nMeilleur Sommelier de France 2022\, Meilleur Ouvrier de France So
 mmellerie 2023 et Sommelier Award du Guide Michelin 2024… mais aussi pas
 sé par les caves mythiques du restaurant Bernard Loiseau\, où il a notam
 ment forgé une partie de son parcours.\n\nLouis-Philippe Vigilant\,\n	Che
 f deux étoiles de la maison Bernard Loiseau\, héritier d’une cuisine b
 ourguignonne d’exception\, qui signera un menu imaginé spécialement po
 ur cette soirée.\n\n	Deux experts\, deux sensibilités\, réunis dans un 
 cadre intime pour faire dialoguer grands vins et haute gastronomie.\n\n	M
 ais ce dîner est bien plus qu’un simple accord mets & vins ✨\n\n	Tout
  au long de la soirée\, Xavier Thuizat et le chef partageront la table a
 vec les convives\, racontant en direct leurs anecdotes\, leurs rencontres\
 , leurs découvertes de domaines et les histoires derrière chaque bouteil
 le et chaque assiette.\n\n	Un moment rare\, au plus près de deux passion
 nés\, dans une atmosphère confidentielle et privilégiée.\n\n	Vous vivr
 ez :\n\nUn dîner gastronomique en 5 temps minimum\, imaginé par Louis-P
 hilippe Vigilant\, chef 2 étoiles du restaurant Bernard Loiseau\nUne sél
 ection 5 cuvées d’exception sélectionnées et commentées par Xavier T
 huizat\nUne table intime de seulement 12 convives\, favorisant les échang
 es avec les intervenants\nLa privatisation de La Folie de Vougeot\, lieu c
 onfidentiel face au Clos Vougeot\nUn moment d’échange privilégié ave
 c Xavier Thuizat et Louis-Philippe Vigilant tout au long du dîner\n\n	En 
 option\, les convives pourront également étoffer l’expérience avec :\
 n\nUne visite et dégustation privée au sein du Clos de Vougeot\, lieu em
 blématique de l’histoire viticole bourguignonne au tarif de 190€ TTC 
 par personne\nUne nuit au sein de la Folie Vougeot au tarif de 290€ TTC
  par personne (une seule chambre disponible)\n\n	Une immersion rare au cœ
 ur de l’un des terroirs les plus mythiques du monde.\n\n	Une soirée pen
 sée comme une rencontre\, une transmission et une émotion\, où chaque 
 détail a été imaginé pour créer un moment véritablement unique.\n\n	
 ✨ Seulement 12 places disponibles au tarif de 695€ TTC par personne.\
 n\nInformations : contact@oenospheres.com\n\n	 \n\n~\n\n	 \n\n	On Tuesda
 y 28 April 2026\, La Folie de Vougeot will host an ultra-exclusive dinner\
 , designed for just 12 guests.\n\n	 \n\n	Following several exceptional di
 nners in Champagne\, we wanted to write a new chapter.\n\n	And this time\,
  we’re heading to Burgundy.\n\n	 \n\n	For this unique evening\, we are 
 bringing together two leading figures in gastronomy and wine.\n\n	 \n\n	X
 avier Thuizat\,\n\n	Best Sommelier of France 2022\, Meilleur Ouvrier de Fr
 ance in Sommellerie 2023 and Michelin Guide Sommelier Award 2024… but al
 so a former member of the legendary wine cellar team at Bernard Loiseau’
 s restaurant\, where he honed much of his craft.\n\n	 \n\n	Louis-Philippe
  Vigilant\,\n\n	Two-Michelin-starred chef at Bernard Loiseau\, heir to an 
 exceptional Burgundian culinary tradition\, who will create a menu designe
 d especially for this evening.\n\n	 \n\n	Two experts\, two sensibilities\
 , brought together in an intimate setting to create a dialogue between fin
 e wines and haute cuisine.\n\n	 \n\n	But this dinner is much more than a 
 simple food and wine pairing ✨\n\n\n		A gourmet dinner comprising at lea
 st five courses\, created by Louis-Philippe Vigilant\, the two-Michelin-st
 arred chef at Restaurant Bernard Loiseau\n\n		A selection of five exceptio
 nal vintages\, chosen and presented by Xavier Thuizat\n\n		An intimate tab
 le for just 12 guests\, encouraging interaction with the hosts\n\n		Exclus
 ive use of La Folie de Vougeot\, a secluded venue opposite the Clos Vougeo
 t\n\n		A special opportunity to chat with Xavier Thuizat and Louis-Philipp
 e Vigilant throughout the dinner\n\n		 \n\n		As an option\, guests may al
 so enhance the experience with:\n\n		 \n\n		A private tour and tasting at
  Clos de Vougeot\, an iconic site in Burgundy’s wine-growing history\, a
 t a rate of €190 (incl. VAT) per person\n\n		A night’s stay at La Foli
 e de Vougeot at a rate of €290 (incl. VAT) per person (only one room ava
 ilable)\n\n		 \n\n		A rare immersion in the heart of one of the world’s
  most legendary terroirs.\n\n		 \n\n		An evening designed as an encounter
 \, a sharing of knowledge and an emotional experience\, where every detail
  has been carefully crafted to create a truly unique moment.\n\n		 \n\n		
 ✨ Only 12 places available at a price of €695 (incl. VAT) per person.\
 n\n		 \n\n		Information: contact@oenospheres.com\n\n\n	 \n
LOCATION:bât Chateau De La Tour 9002 rue Montagne 21640 Vougeot - FR
ORGANIZER:OenoSpheres SAS
END:VEVENT
END:VCALENDAR
