BEGIN:VCALENDAR
VERSION:2.0
CALSCALE:GREGORIAN
METHOD:PUBLISH
BEGIN:VEVENT
SUMMARY:Réservation Prière EID 8h15 Mosquée Tawba
DTSTART:20260320T071500Z
DTEND:20260320T074500Z
DTSTAMP:20260421T163812Z
CATEGORIES:
DESCRIPTION:\n	Inscription pour prière à 8h15\n\n	La capacité de la mos
 quée étant limité\, nous vous prions de venir muni de votre réservatio
 n.\n
LOCATION:11 allée Madame de Montespan 77600 BUSSY SAINT GEORGES - FR
ORGANIZER:TAWBA
END:VEVENT
END:VCALENDAR
