BEGIN:VCALENDAR
VERSION:2.0
CALSCALE:GREGORIAN
METHOD:PUBLISH
BEGIN:VEVENT
SUMMARY:LES TALENS LYRIQUES
DTSTART:20261217T190000Z
DTSTAMP:20260424T142055Z
CATEGORIES:
DESCRIPTION:\n\nCONCERT DESSINÉ\n« Peindre la nature » est un concert d
 essiné où la musique et l’image se répondent dans une harmonie saisis
 sante. Les Quatre Saisons de Vivaldi rencontrent Les Élémens de Rebel po
 ur donner naissance à une expérience immersive et poétique\, où chaque
  note devient couleur\, mouvement et émotion.Rebel\, avec son imaginaire 
 foisonnant et presque cinématographique\, évoque le chaos originel\, les
  tempêtes\, le calme et les forces cosmiques avec une puissance évocatri
 ce rare. Ces paysages sonores trouvent un écho parfait dans les saisons v
 ivaldiennes\, fresques intemporelles qui traduisent le passage du temps et
  la beauté changeante de la nature.Sur scène\, le dessinateur et animate
 ur Grégoire Pont accompagne les musiciens en direct. À chaque trait\, à
  chaque geste\, il fait naître sous nos yeux un univers graphique vibrant
 \, projeté et animé en temps réel. Sa création devient le miroir vivan
 t de la musique\, une véritable peinture en mouvement qui transforme l’
 écoute en un voyage sensoriel et visuel.\nUn spectacle total\, à la croi
 sée des arts\, qui émerveille petits et grands et invite le public ajacc
 ien à redécouvrir la nature à travers le regard croisé d’un composit
 eur\, d’un peintre et d’un orchestre.\n \nProgramme : \nLes Quatre S
 aisons\, op. 8 - Antonio Vivaldi (1678-1741)\nLes Éléments - Jean-Féry
  Rebel (1666-1747)\n \nClavecin et direction : Christophe Rousset\nViolon
  solo : Gilone Gaubert\nDessinateur animateur : Grégoire Pont\nEnsemble L
 es Talens Lyriques\n \nEn partenariat avec l’Office Intercommunal d’A
 iacciu OIT\n \nInformations spectacle :  www.corsicacantabile.com\nInfor
 mations billetterie : contact@empire.corsica\n\n\nRéservations PMR : chr
 istelle@empire.corsica 
GEO:41.9254665;8.738125199999999
LOCATION:30 Cours Napoléon 20000 Ajaccio - FR
ORGANIZER:Association Théâtre Empire
END:VEVENT
END:VCALENDAR
