BEGIN:VCALENDAR
VERSION:2.0
CALSCALE:GREGORIAN
METHOD:PUBLISH
BEGIN:VEVENT
SUMMARY:APÉRO-CONCERT - MELASOUL - Vendredi 22 mai à 19h30
DTSTART:20260522T173000Z
DTEND:20260522T190000Z
DTSTAMP:20260420T234515Z
CATEGORIES:
DESCRIPTION:\nL'Espace Dagron vous propose un "Apéro-Concert" spécial av
 ec Melasoul :  neuf musiciens sur scène qui créent une expérience live
  intense.\n\n	Nous vous invitons à découvrir MELASOUL le vendredi 22 mai
  à 19h30 pour un concert autour d'un verre !\n\n	De la musique funk et so
 ul à travers une lecture originale de grands classiques (de James Brown\,
  Tower of Power et Prince entre autres)\, mais aussi de titres plus contem
 porains (Maxwell\, Dua Lipa\, Lizzo\, etc.). Plus que de simples reprises 
 : chaque morceau est réarrangé pour sonner avec une emprunte forte et as
 sumée : la touche Melasoul.\n\n	Avec l’expressivité des voix de Monia
  et Guillaume\, les riffs de cuivres qui claquent\, les cocottes de guitar
 e qui font tourner la tête et une section rythmique qui embarque tout le 
 monde\, le groupe crée une vraie connexion avec le public. Rapidement\, l
 a scène et la salle s’alignent autour de ces trois éléments : l'éner
 gie\, le groove et le feeling.\n\n	Et puis\, quelque chose se passe. Un qu
 atrième élément surgit. Le feu qui nous anime\, nous rassemble et nous 
 fait bouger sans même y penser. Ça efface tout le reste le temps d’une
  soirée… Un de ces moments rares où\, tous ensemble\, on sait exacteme
 nt pourquoi on est là…\n\n	Mais le mieux c’est encore de venir essaye
 r en live : rendez-vous le 22 mai à 19h30 à l'Espace Dagron. Et si vous 
 voulez\, ils seront ravis d'en discuter directement avec vous après le co
 ncert…\n\n	Entrée gratuite.\n\n	 \n\nRenseignements :\n\n	Espace Dagro
 n : 02 37 91 90 90\n\n	Pour toute annulation\, merci de prévenir l'Espace
  Dagron.\n\n	Il n'est pas nécessaire d'imprimer votre billet\, un contrô
 le nominatif sera effectué lors de votre venue.\n
LOCATION:2-4 Place du Marché 28700 Auneau-Bleury-Saint-Symphorien - FR
ORGANIZER:Espace Dagron
END:VEVENT
END:VCALENDAR
