BEGIN:VCALENDAR
VERSION:2.0
CALSCALE:GREGORIAN
METHOD:PUBLISH
BEGIN:VEVENT
SUMMARY:Grande dégustation 2026
DTSTART:20260604T170000Z
DTEND:20260604T200000Z
DTSTAMP:20260419T130752Z
CATEGORIES:
DESCRIPTION:\n	Partez à la découverte de 50 maisons de Champagne\, coop
 ératives et vignerons de notre région ! Le jeudi 4 juin 2026 rendez-vous
  au cœur de Reims\, aux Halles du Boulingrin\, pour une soirée de dégus
 tation et d’échanges autour des cuvées présentées. Votre billet incl
 ut un verre offert à l’entrée\, un tote-bag\, ainsi qu’un livret de 
 dégustation pour noter vos impressions tout au long de l’événement.\n
LOCATION:50\, rue de Mars 51100 Reims - FR
ORGANIZER:Journal L'union
END:VEVENT
END:VCALENDAR
