BEGIN:VCALENDAR
VERSION:2.0
CALSCALE:GREGORIAN
METHOD:PUBLISH
BEGIN:VEVENT
SUMMARY:Mégane and friends | All Night Long @LabClub
DTSTART:20260425T210000Z
DTEND:20260426T033000Z
DTSTAMP:20260420T201915Z
CATEGORIES:
DESCRIPTION:LAB CLUB presents: ODT\nPréparez-vous pour une nuit intense d
 édiée à la techno.ODT (Only Dirty Techno) est un nouveau concept qui me
 t à l’honneur une techno puissante\, sombre et sans compromis.\nPour ce
 tte première édition\, le Lab Club à Liège ouvrira ses portes pour une
  nuit immersive dès 23H00 où l’énergie du dancefloor ne fera que mont
 er jusqu’au matin 5H30.\nAu programme :Techno brute et hypnotiqueUn line
 -up soigneusement sélectionnéUne atmosphère undergroundUn dancefloor pr
 êt à vibrer toute la nuit\nLINE UP\nBJORN TORWELLEN -  (DE-CLR / Nachts
 trom Schallplatten)BJOERN WILLING - (Trésor - Nature One - Mayday)MEGANE 
 BRESCICH - (Extrema - Labyrinth - Dour)MENTALIST - (Fuse - RedKat Club - L
 a Rocca)S KOBAR (Belvédère Namur - Dark Cube - Leuzevent Fest)\nCette so
 irée marque le lancement officiel du concept ODT.Une invitation à tous l
 es amateurs de " Dirty Techno " à venir partager ce moment unique.\nLet t
 he darkness guide the rhythm.\nCapacité limitée – prenez votre billet 
 à l’avance.LAB CLUB au troisième étage du MOYA à Liège.Adresse: Rue
  pot d'or 33 - 4000 Liège.Parking a proximité - Parking neujean - Parkin
 g Opéra - Parking Cathédrale tous ouvert 24H/24H.
LOCATION:Rue du Pot d'Or 33 4000 Liège - BE
ORGANIZER:Mégane and friends | All Night Long
END:VEVENT
END:VCALENDAR
