BEGIN:VCALENDAR
VERSION:2.0
CALSCALE:GREGORIAN
METHOD:PUBLISH
BEGIN:VEVENT
SUMMARY:LES PIPAZ & FRIENDS
DTSTART:20260510T170000Z
DTEND:20260510T170000Z
DTSTAMP:20260421T003033Z
CATEGORIES:
DESCRIPTION:= LES PIPAZ & FRIENDS\n \nDepuis 25 ans\, Les Pipaz rassemble
  une véritable famille d'artistes unis par la passion du live\, du funk e
 t de la soul. En résidence pendant de nombreuses années au Réservoir Cl
 ub à Paris\, le groupe s'est également produit dans des salles emblémat
 iques telles que le Cabaret Sauvage\, le Cirque d'Hiver\, La Seine Musical
 e ou encore le Nouveau Casino. Les Pipaz revisitent avec énergie et gén
 érosité les grands noms de la funk et de la soul (Stevie Wonder\, Donny 
 Hathaway\, Earth\, Wind & Fire\, Michael Jackson\, Prince) et propose éga
 lement des compositions originales\, portées par la même exigence groove
  et le même amour de la Funk. Sur scène\, une seule mission : partager l
 a passion du live et faire groover le public.\n \nFondé en 2000 par Fran
 ck Badache et Michael Margulies\, Les Pipaz est bien plus qu'un groupe : c
 'est une véritable famille d'artistes\, réunis par une même passion vis
 cérale pour le live\, la funk et la soul.\n \nDès 2001\, le groupe s'in
 stalle en résidence au Réservoir Club à Paris\, où il fera vibrer la s
 cène pendant de nombreuses années. Cette aventure musicale les mènera e
 nsuite dans de nombreuses salles prestigieuses à travers la France (le Ca
 baret Sauvage\, le Cirque d'Hiver\, La Seine Musicale\, le Nouveau Casino)
  et ailleurs\, multipliant les rencontres avec des artistes talentueux\, d
 evenus pour beaucoup des amis.\n \nTous mordus de groove et d'énergie sc
 énique\, les artistes de Pipaz partagent une même envie : transmettre l'
 amour du son organique et la chaleur du live. Leur répertoire revisite av
 ec intensité et générosité les grands noms de la funk et de la soul (S
 tevie Wonder\, Donny Hathaway\, Earth\, Wind & Fire\, Michael Jackson\, Pr
 ince) tout en laissant une place importante à leurs compositions original
 es\, nourries des mêmes influences.\n \nSur scène\, Pipaz ne joue pas s
 eulement de la musique : ils vivent chaque note\, chaque groove\, et embar
 quent le public dans une expérience généreuse\, festive et profondémen
 t authentique.\n \n \n 
LOCATION:7/9 Rue des Petites Ecuries 75010 Paris - FR
ORGANIZER:New Morning
END:VEVENT
END:VCALENDAR
