BEGIN:VCALENDAR
VERSION:2.0
CALSCALE:GREGORIAN
METHOD:PUBLISH
BEGIN:VEVENT
SUMMARY:ANDRÉ VILLÉGER & ALAIN JEAN-MARIE
DTSTART:20260428T180000Z
DTEND:20260428T180000Z
DTSTAMP:20260420T231921Z
CATEGORIES:
DESCRIPTION:= ANDRé VILLéGER & ALAIN JEAN-MARIE\nFêtent leurs 80 ans !\
 n \nDeux sommités du jazz hexagonal\, André Villéger (prix Sidney Bech
 et en 1973) et Alain Jean-Marie (prix Django Reinhardt en 1979)\, ont l'id
 ée de fêter leurs 80 ans sur la scène d'un New Morning qui fête lui-m
 ême ses 45 ans !\n \nA eux deux\, ils ont joué avec Chet Baker\, Johnny
  Griffin\, Clark Terry\, Lionel Hampton\, Thad Jones\, Quincy Jones\, Harr
 y Edison\, Bill Coleman\, Patrice Caratini\, Dee Dee Bridgewater...\n \nP
 lus d'un demi-siècle lie ces deux musiciens d'exception et pour marquer l
 'événement\, entourés de Thomas Bramerie à la contrebasse et Antoine P
 aganotti à la batterie\, leur répertoire comptera des compositions perso
 nnelles et des titres enregistrés dans leurs derniers albums communs (en 
 duo « Time to dream » et en quartet : « Benny's Changes »).\n \n= And
 ré Villéger :\nAu cours de sa longue carrière\, le saxophoniste et clar
 inettiste André Villanger\, originaire de la région parisienne\, s'est p
 roduit auprès de grands noms\, dont Bill Coleman\, Lionel Hampton\, Ray C
 harles\, Dee Dee Bridgewater ou encore Wynton Marsalis. En 2000\, il a fai
 t partie du Big Band de Quincy Jones. Il a également accompagné Henri Sa
 lvador lors de ses dernières tournées. André Villéger a reçu plusieur
 s prix récompensant sa prestigieuse carrière\, dont le Prix Sidney Beche
 t de l'Académie du Jazz en 1973\, l'ordre de Chevalier dans l'Ordre des A
 rts et des Lettres en 2005\, ou encore le Prix Jazz Classique que l'Acadé
 mie du Jazz lui décerne en 2016 pour son disque « For Duke And Paul »\,
  en duo avec Philippe Milanta\, sorti chez Camille Productions. En 2017\, 
 il collabore avec Philippe Milanta et Thomas Bramerie sur l'album « Stric
 tly Strayhorn ». \n \n---\n \n= Alain Jean-Marie :\nIl fait ses début
 s aux Antilles dont il est originaire avant d'arriver en Métropole en 197
 3. Lauréat du prix Django Reinhardt en 1979\, le pianiste Alain Jean-Mari
 e devient en 1986 et 1987 le directeur musical du spectacle de Dee Dee Bri
 dgewater Lady Day\, un hommage à Billie Holiday. En 1990\, on le retrouve
  aux côtés d'une autre chanteuse américaine\, Abbey Lincoln\, avec qui 
 il enregistre l'album « The World is Falling Down ». Alain Jean-Marie n'
 est pas seulement un accompagnateur incontournable de la scène jazz paris
 ienne : il est également un soliste reconnu. Il a notamment reçu le prix
  Boris Vian de l'Académie du Jazz pour son album « Afterblue » (1999)\,
  et a enregistré en 2004 « That's What »\, dans lequel il revisite d'un
 e façon très personnelle les standards du jazz. En 2021\, à l'âge de 7
 6 ans\, Alain Jean-Marie reçoit une Victoire d'honneur lors des Victoires
  du jazz.\n \n \n 
LOCATION:7/9 Rue des Petites Ecuries 75010 Paris - FR
ORGANIZER:New Morning
END:VEVENT
END:VCALENDAR
