BEGIN:VCALENDAR
VERSION:2.0
CALSCALE:GREGORIAN
METHOD:PUBLISH
BEGIN:VEVENT
SUMMARY:BOBBY SPARKS II
DTSTART:20260623T180000Z
DTEND:20260623T180000Z
DTSTAMP:20260421T013608Z
CATEGORIES:
DESCRIPTION:= BOBBY SPARKS II\n \nLe clavier des Snarky Puppy\, Marcus Mi
 ller\, Roy Hargrove RH Factor\, Prince\,... Au coeur de son univers sonore
  se trouve l'orgue Hammond B-3 qu'il reçoit à l'âge de seize ans et qu'
 il joue encore aujourd'hui. Il s'entoure également d'une riche collection
  de claviers vintage (Mellotron\, Clavinet\, Fender Rhodes\, Mini-Moog\, P
 rophet-5) qui contribuent à la signature sonore dense et expressive de se
 s enregistrements comme de ses performances scéniques\, réputées pour l
 eur énergie et leur intensité.\n \nArtiste\, musicien et producteur aux
  multiples talents\, Bobby Sparks II est une figure singulière de la scè
 ne musicale contemporaine\, dont la carrière traverse le gospel\, le jazz
 \, le funk\, le R&B et bien au-delà. Lauréat de dix Grammy Awards\, il a
  collaboré avec une impressionnante constellation d'artistes parmi lesque
 ls Prince\, Herbie Hancock\, Ray Charles\, Nelly Furtado\, Marcus Miller\,
  Kirk Franklin\, St. Vincent\, ainsi que le collectif acclamé Snarky Pupp
 y. Sa musique se distingue par une forte conscience de l'identité artisti
 que\, mêlant authenticité\, virtuosité et une expression sonore audacie
 use façonnée par plusieurs décennies d'exploration musicale.\n \nNé e
 n 1973 à Corsicana\, au Texas\, dans une famille profondément ancrée da
 ns la musique\, Bobby Sparks II découvre très tôt l'orgue et commence 
 à jouer à l'église dès l'âge de six ans. Sa mère\, organiste et pian
 iste de gospel\, lui transmet l'héritage de la musique religieuse\, tandi
 s que son père\, trompettiste de bebop\, l'initie au jazz et au blues en 
 lui faisant écouter Dizzy Gillespie\, Sonny Rollins\, Dexter Gordon\, Cou
 nt Basie\, puis plus tard Miles Davis. Les grandes figures de l'orgue\, no
 tamment Jimmy Smith\, ainsi que le blues de B.B. King\, comptent égalemen
 t parmi les influences déterminantes qui façonnent son langage musical.\
 n \nAprès des études de musique au Eastfield College\, près de Dallas\
 , Sparks rejoint le groupe de Kirk Franklin\, dont il devient le directeur
  musical de 1992 à 2005. Il participe à plusieurs albums majeurs\, dont 
 « Kirk Franklin & the Holy Family »\, « Nu Nation Project » et « The 
 Rebirth of Kirk Franklin ». Il poursuit ensuite sa trajectoire au sein du
  RH Factor du trompettiste Roy Hargrove\, avant de rejoindre en 2016 le co
 llectif Snarky Puppy\, avec lequel il tourne à l'international et contrib
 ue à plusieurs projets récompensés aux Grammy Awards.\n \nEn 2019\, il
  dévoile son premier album en tant que leader\, « Schizophrenia: The Yan
 g Project »\, qui révèle l'ampleur de sa vision musicale et son identit
 é sonore singulière. Son dernier album\, « Paranoia »\, marque une nou
 velle étape dans son parcours artistique. Véritable fresque musicale\, l
 'album mêle textures cinématographiques\, grooves funk\, improvisation e
 t arrangements qui transcendent les frontières stylistiques. Bobby Sparks
  II y affirme une expression musicale libre et puissante\, repoussant les 
 limites du jazz contemporain et de la fusion.\n \n= Ils en parlent =\n« 
 Le nouvel album du claviériste\, compositeur et arrangeur BOBBY SPARKS II
  n'est rien de moins qu'un chef-d'oeuvre. Pendant deux heures et vingt min
 utes\, le Texan présente un feu d'artifice de musicalité\, de spontanéi
 té\, de solos formidables et d'arrangements incroyables. Funk\, Rock\, Ba
 llades et Jazz sont les composantes de ce voyage à travers l'univers musi
 cal de Bobby Sparks II\, soutenu par des complices tels que Chris Potter\,
  Mike Stern\, Lizz Wright\, Dean Brown\, John Scofield\, Mark Lettieri\, l
 e NPG Horns\, MonoNeon et bien d'autres. » (Le Disquaire)\n \n« Après 
 avoir fait ses classes il y a près de trente ans à Dallas au sein de God
 's Property\, une chorale associée à la star du gospel Kirk Franklin\, l
 e claviériste Bobby Sparks a offert ses services à deux grandes institut
 ions du jazz et du funk texan : le RH Factor de Roy Hargrove et le collect
 if Snarky Puppy. Son originalité réside dans le fait qu'il utilise uniqu
 ement des claviers vintage comme l'orgue Hammond\, le Fender Rhodes\, le C
 lavinet ou le Minimoog à une époque où la plupart des claviéristes opt
 ent pour des claviers numériques. Au fil de ses collaborations avec Marcu
 s Miller\, Dean Brown\, India Arie ou Lalah Hathaway\, Sparks s'impose com
 me un maître des claviers jazz\, jazz fusion\, funk\, gospel\, R&B ou neo
  soul. Ce n'est pourtant qu'en 2019 qu'il sort son premier album\, "Schizo
 phrenia - The Yang Project"\, un double célébrant toutes les sensibilit
 és musicales qui ont façonné sa virtuosité et sa maîtrise du groove. 
 "Paranoia"suit le même cahier des charges. Sparks s'entoure à nouveau d'
 un casting d'invités prestigieux : Chris Potter et Keith Anderson (saxoph
 one)\, John Scofield\, Mike Stern (guitare)\, Pino Palladino\, Mononeon et
  Hadrien Féraud (basse)\, Dennis Chambers et Poogie Bell (batterie)\, ses
  collègues de Snarky Puppy Michael League et Mark Lettieri ou les vocalis
 tes Liz Wright et Chuckii Booker. Sur plusieurs interludes\, les noms de D
 uke\, Dizzy\, Bird ou Miles sont cités pour rappeler à quel point il a 
 été marqué par l'héritage de ces géants du jazz et par l'éducation d
 e son père musicien. Ses reprises de « DMSR » et « Sometimes it snows 
 in April » de Prince et « Goodbye yellow brick road » d'Elton John trou
 vent aisément leur place dans cet album riche qui inscrit définitivement
  le nom de Sparks parmi les dignes successeurs de George Duke ou de Herbie
  Hancock. » (Belkacem Meziane\, Soul Bag)\n \n« Il faut voir Bobby en c
 oncert ! L'ambiance est dingue\, la qualité musicale a un niveau stratosp
 hérique\, et la totalité des musiciens qui l'accompagnent sont des point
 ures. Les fans de l'univers Princier retrouveront d'ailleurs Jay McK\, qui
  était sur scène avec Liv Warfield lors de son dernier passage parisien 
 au New Morning. Il faut voir Bobby en concert ! L'ambiance est dingue\, la
  qualité musicale a un niveau stratosphérique\, et la totalité des musi
 ciens qui l'accompagnent sont des pointures. Les fans de l'univers Princie
 r retrouveront d'ailleurs Jay McK\, qui était sur scène avec Liv Warfiel
 d lors de son dernier passage parisien au New Morning.\nBobby Sparks fait 
 partie de ces musiciens ultra talentueux. Claviériste-compositeur-arrange
 ur-conceptuel sort le 13 mai prochain son nouvel album\, « Paranoia »\, 
 qui fait suite à « Schizophrenia-The Yang Project » (2019).Les invités
  autour de lui sont nombreux\, et impressionnants\, jugez plutôt : Mike S
 tern\, John Scofield\, Dean Brown\, Andy Timmons et Eric Gales\, le trompe
 ttiste Phil Lassiter\, les saxophonistes Chris Potter et Keith Anderson\, 
 les bassistes Pino Palladino\, Hadrien Feraud\, Chuck Smith\, Mononeon\, J
 ay Mck et Reggie Washington\, les batteurs Lil John Roberts\, Dennis Chamb
 ers\, Brannen Temple\, Mike « Blaque Dynamite » Mitchell et Mark Simmons
 \, et les chanteurs Lizz Wright\, Dnessa Perry\, Jojo Hill\, Chuckii Booke
 r et James Robinson. Sans oublier ses copains de Snarky Puppy\, le bassist
 e Michael League\, le guitariste Mark Lettieri et le batteur Jason JT » T
 homas. Si nous parlons de cet album\, c'est parce qu'on y trouve 2 superbe
 s reprises de Prince. » (SCHKOPI)\n \n« Le magicien texan des claviers 
 au groove insaisissable. Bienvenue dans l'opéra funk ! » (Westzeit)\n \
 n« Au centre de cette richesse sonore se tient Sparks II\, véritable jon
 gleur de talents\, maîtrisant groove\, puissance et énergie fusion. » (
 Jazzthing)\n \n \n 
LOCATION:7/9 Rue des Petites Ecuries 75010 Paris - FR
ORGANIZER:New Morning
END:VEVENT
END:VCALENDAR
