BEGIN:VCALENDAR
VERSION:2.0
CALSCALE:GREGORIAN
METHOD:PUBLISH
BEGIN:VEVENT
SUMMARY:C.W. STONEKING
DTSTART:20260613T180000Z
DTEND:20260613T180000Z
DTSTAMP:20260421T000228Z
CATEGORIES:
DESCRIPTION:= C.W. STONEKING\n \nC.W. Stoneking est un chanteur\, musicie
 n et artiste d'enregistrement australo-américain. Né à Katherine\, dans
  le Territoire du Nord en Australie\, au milieu des années 1970. Il a vé
 cu et tourné à travers l'Australie\, le Royaume-Uni\, l'Europe et les É
 tats-Unis. Il a sorti de manière indépendante trois albums originaux sal
 ués par la critique : « King Hokum »\, « Jungle Blues » et « Gon' Bo
 ogaloo ».\n \nIl se met à la guitare à l'âge de 11 ans\, et forme son
  premier groupe à 13 ans. En 1991\, il donne des représentations de styl
 e prewar blues \; en 1995\, il déménage de Sydney pour le Victoria (vers
  la commune rurale de Naroghid)\, puis finalement en 1997 à Melbourne\, a
 nnée du début de sa carrière de guitariste et chanteur blues soliste. E
 n 1998\, il forme son groupe The Blue Tits : contrebasse\, clarinette et m
 andoline\, et lui à la guitare et au chant. The Blue Tits existera jusqu'
 à la mort du mandoliniste. Il poursuit une carrière de concert en solita
 ire\, enregistrant en 2005 « King Hokum ». En 2006\, l'album de Stonekin
 g « King Hokum » est élu Album de l'année par l'animateur de radio nat
 ionale Tim Ritchie\, présentateur de la tranche matinale Breakfast. L'alb
 um « King Hokum » fut nommé pour Meilleur Album Blues/Roots en 2007 lor
 s de la remise des ARIA Awards et remporta le AIR Award du Meilleur disque
  de Blues Indépendant. En 2008\, Stoneking enregistre « Jungle Blues »\
 , second album original\, sélectionné dans les catégories Meilleur Albu
 m Indépendant\, Meilleur Album Blues/Roots\, Meilleur Artiste Masculin et
  Meilleure Pochette d'Album par le jury des ARIA Awards en 2009.\n \nIl s
 'est produit de façon intensive à l'international\, avec différentes fo
 rmations de musiciens accompagnateurs ainsi qu'en solo. L'instrumentation 
 de ses groupes et de ses enregistrements reflète les inspirations stylist
 iques de son écriture : cuivres et batterie dans le style de La Nouvelle-
 Orléans\, percussions traditionnelles africaines et caribéennes\, blues 
 du début du XXe siècle\, jazz\, guitare et banjo dans la tradition folk 
 américaine\, guitare électrique inspirée du gospel et choeurs...\n \nL
 a musique et les paroles de C.W. Stoneking s'inspirent d'un large éventai
 l de styles et de traditions musicales\, qu'il combine pour créer un son 
 unique qui lui est propre.\n \n= Ils en parlent \n« Si je pouvais un jo
 ur échanger ma voix parlée avec quelqu'un\, ce serait avec C.W. Stonekin
 g. Il sonne comme s'il venait d'un bateau fantôme au milieu d'une île au
 x monstres. C'est tout simplement magnifique. » (Jack White\, Double J\, 
 2018)\n« Voici C.W. Stoneking\, un artiste australien qui sonne comme s'i
 l avait 600 ans. Il est en réalité beaucoup plus jeune\, mais il a un st
 yle bien à lui. » (Tom Waits\, BBC 6 Radio\, 2023)\n \n \n 
LOCATION:7/9 Rue des Petites Ecuries 75010 Paris - FR
ORGANIZER:New Morning
END:VEVENT
END:VCALENDAR
