BEGIN:VCALENDAR
VERSION:2.0
CALSCALE:GREGORIAN
METHOD:PUBLISH
BEGIN:VEVENT
SUMMARY:Matières Sensibles #13
DTSTART:20260619T120000Z
DTEND:20260619T160000Z
DTSTAMP:20260421T164635Z
CATEGORIES:
DESCRIPTION:\n\n\n\n\n					Matières Sensibles #13\n\n					 \n\n\n\n			La
 urette Burgholzer & l’équipe de recherche E.S.T. – Études sur le th
 éâtre\n\n\n				Tout public\n\n\n\n\n			 \n\n13ème séance à la BnF\,
  site Richelieu – Salle des conférences (5 rue Vivienne\, 75002 Paris)\
 n\nTitre de la séance : « Quand les matériaux entrent en jeu »\n\n	
 		 \n\nEspace de dialogue\, de réflexion et d’expérimentation ouvert 
 à tous·tes\, le séminaire invite à explorer la création contemporaine
 \, l’histoire et la transmission des rencontres entre arts vivants et pl
 astiques.\n\n			Par quelles voies la transmission de savoirs incarnés pas
 se-t-elle ? Comment s’articulent les corps à corps de présences humai
 nes et non-humaines dans les écritures dramatiques ? Quels sont les parc
 ours – traversant arts\, époques et pays – des pratiques de création
 \, de recherche et d’expression ?\n\n			 \n\n			Le séminaire Matière
 s sensibles\, initié en 2022 par Laurette Burgholzer et le groupe de rech
 erche E.S.T. – Études sur le théâtre\, réunit\, au Théâtre aux Mai
 ns Nues et au site Richelieu de la Bibliothèque nationale de France\, des
  artistes\, des chercheurs et des chargés de patrimoine pour questionner 
 ensemble\, par la parole et par l’expérimentation\, les matières sensi
 bles des arts vivants et plastiques\, faisant émerger des présences à p
 artir de corps humains et de matières multiformes qui s’animent mutuell
 ement.\n\n			En 2025-2026\, les rencontres se consacrent aux pratiques de 
 transmission de l’art du marionnettiste\, aux recherches et créations e
 n arts de la marionnette menées dans le cadre universitaire au Brésil et
  en France\, et aux rapports à la matérialité dans l’écriture pour l
 a scène\, la recherche-création\, l’animation-manipulation et le jeu.\
 n\n			Lors de la 13e séance du séminaire\, nous échangerons\, au site R
 ichelieu de la Bibliothèque nationale de France\, sur les propriétés ph
 ysiques et sensibles des matières (résistantes\, fragiles\, sonores\, ma
 lléables…) devenant matériaux de création\, qui offrent et imposent a
 ux artistes des langages scéniques\, corporéités\, modalités de jeu et
  compositions dramaturgiques.\n\n			Intervenant-e-s :\n\n\nÉric de Sarria
  (acteur marionnettiste\, metteur en scène\, pédagogue) ou Nancy Rusek (
 danseuse\, metteuse en scène\, pédagogue)\, Mots de tête compagnie\n\nA
 zadeh Nilchiani (artiste\, chercheuse\, pédagogue)\n\nNarguess Majd (mari
 onnettiste\, metteuse en scène\, pédagogue)\, compagnie Papierthéâtre\
 n\nAlain Lecucq (marionnettiste\, metteur en scène\, pédagogue)\, compag
 nie Papierthéâtre\n\n\nConception et animation : Laurette Burgholzer.\n\
 n			Prix libre (prix moyen conseillé de 5€ sur place).\n\n\n\n			 \n\n
 			© Laurette Burgholzer\n\n\n\n	 \n
LOCATION:5 rue Vivienne 75002 Paris - FR
ORGANIZER:Théâtre aux Mains Nues
END:VEVENT
END:VCALENDAR
