BEGIN:VCALENDAR
VERSION:2.0
CALSCALE:GREGORIAN
METHOD:PUBLISH
BEGIN:VEVENT
SUMMARY:Dany Mauro : Elles & Nous
DTSTART:20260611T183000Z
DTEND:20260612T183000Z
DTSTAMP:20260421T163803Z
CATEGORIES:
DESCRIPTION:\n	Vous n’aimez pas le seul en scène ? Ça tombe bien…\n\
 n	Dany Mauro incarne une multitude de personnages féminins (Bruni\, Lades
 ou\, Marine Lepen\, Bachelot) et masculins (Poelvoorde\, Cluzet\, Vandamme
 \, Macron\, Poutine\, Trump\, Bern\, Doré\, Obispo\, Luchini…) dans son
  nouveau spectacle « Elles & Nous » qui est un véritable kaléidoscope 
 des rapports hommes-femmes :\n\n	La séduction\, le cinéma\, le harcèlem
 ent\, la pub\, le yoga\, les régimes\, le speed dating\, la politique.\n\
 n	L’humoriste-imitateur nous entraine avec bonheur dans son univers arti
 stique unique\, servi par une énergie hors du commun dans lequel il alter
 ne avec naturel et simplicité\, moments de rire\, d’émotion\, de chant
 \, de légèreté\, de finesse d’écriture et d’improvisations facéti
 euses.\n\n	« Elles & Nous » est le miroir vivant de Dany Mauro.\n\n	 \n
 \n\n\n\n				--------------------------------------------------------\n\n		
 		Tarif Public : 22€\n\n				Tarif Membre Carioca : 19€ !\n\n				 \n\n
 				Ouverture des portes 19h\, petite restauration délicieusement faite m
 aison à déguster sur place !\;)\n\n\n\n\n	 \n
LOCATION:44 RUE DE LYON 01800 MEXIMIEUX - FR
ORGANIZER:CARIOCA
END:VEVENT
END:VCALENDAR
