BEGIN:VCALENDAR
VERSION:2.0
CALSCALE:GREGORIAN
METHOD:PUBLISH
BEGIN:VEVENT
SUMMARY:Yoga de l'équinoxe & Lithothérapie : ouvrez votre coeur au print
 emps
DTSTART:20260321T083000Z
DTEND:20260321T113000Z
DTSTAMP:20260424T034133Z
CATEGORIES:
DESCRIPTION:Stage Yoga – Équinoxe de printemps\nÀ l’approche de l’
 équinoxe\, la nature s’éveille et une nouvelle énergie commence à ci
 rculer. C’est un moment privilégié pour ralentir\, se recentrer et acc
 ueillir ce renouveau intérieur.\nJe vous propose une matinée de pratique
  pour célébrer ensemble ce passage vers le printemps.\nUne parenthèse p
 our ouvrir le cœur\, poser des intentions et repartir avec un nouvel éla
 n.\nAu programme :cercle d'ouverture avec méditation chantée et intentio
 nspratique de yoga centrée sur la joie et l'ouverture du cœurintroductio
 n à la lithothérapie et aux pierres du printempsméditation de fermeture
  avec le minéral de votre choix\nLa matinée se terminera par un moment c
 onvivial autour d’une collation.\nSamedi 21 mars 20269h30 – 12h3024 av
 enue St Médard\, Mérignac\nTarif :49 € / 44 € abonnés-15 % étudian
 tsacompte de 15 € pour réserverréservations jusqu’au 18 mars\nplaces
  limitées (petit groupe de 8)\nInscription par mp ou par téléphone au 0
 7 82 35 59 57.Je vous invite à réserver dès maintenant. Je me réjouis
  de vivre ce moment avec vous.\nRoxana
LOCATION:24 avenue de Saint Médard  Mérignac - FR
ORGANIZER:L'Équinoxe Yoga
END:VEVENT
END:VCALENDAR
