BEGIN:VCALENDAR
VERSION:2.0
CALSCALE:GREGORIAN
METHOD:PUBLISH
BEGIN:VEVENT
SUMMARY:Femmes de Résistance - La Femme dans l'esclavage "Poto Mitan"
DTSTART:20260510T133000Z
DTEND:20260510T150000Z
DTSTAMP:20260421T220029Z
CATEGORIES:
DESCRIPTION:Organisée dans le cadre de la commémoration de l’esclavage
 \, cette représentation propose un voyage artistique et mémoriel autour 
 du thème « La Femme »\, figure de résistance\, de transmission et de 
 dignité dans les sociétés issues de l’esclavage. À travers les cultu
 res d’Haïti\, de la Martinique\, de la Guadeloupe\, de la Guyane et de 
 La Réunion\, l’événement rend hommage à ces femmes qui ont porté la
  survie\, la révolte et la reconstruction des peuples.
GEO:48.8530522;2.3861431
LOCATION:2 avenue du Mesnil 95470 FOSSES - FR
ORGANIZER:Test
END:VEVENT
END:VCALENDAR
