BEGIN:VCALENDAR
VERSION:2.0
CALSCALE:GREGORIAN
METHOD:PUBLISH
BEGIN:VEVENT
SUMMARY:Stages d'été du 22 au 25 juin 2026
DTSTART:20260622T171500Z
DTEND:20260625T201500Z
DTSTAMP:20260424T160708Z
CATEGORIES:
DESCRIPTION:\n	 \n\nStages d'été pour Ados et Adultes \n\nLes incontou
 rnables\n\n	 \n\ndu 22 juin 2026 au 25 juin 2026\n\nDanses à deux\n\nOuv
 erts à tous\, que vous apparteniez ou non au RACA Danse \n\n	 \n\n	Vous
  voulez apprendre à danser pour l’été ? Alors ces stages sont pour vo
 us.\n\n	Ouverts à tous\, que vous apparteniez ou non au RACA Danse\n\n	av
 ec votre professeur Alexandra :\n\n\n		19h15 – 20h15 : ROCK Dancing Dé
 butant\n\n		20h15 – 21h15 : SALSA Cubaine Débutant\n\n		21h15 – 22h1
 5 : BACHATA Débutant\n\n\nTarifs par personne  :  \n\n• 1h par soir 
 : 50€ stage de 4h (1 discipline)\n\n• 2h par soir : 70€ stage de 8h 
 (2 disciplines)\n\n	• FULL PASS 3h par soir : 80€ stage de 12h (3 disc
 iplines)\n\n	 \n\nCONDITIONS DE VOS STAGES :\n\nClôture d’inscription 
 : la veille du stage et dans la limite des places disponibles\n\nMinimum d
 e 10 personnes. En cas de sous-effectif le RACA Danse se verra dans l’ob
 ligation d’annuler. Le maximum de stagiaires est déterminé en fonction
  de la danse et des salles\n\nL’inscription n’est validée qu’accomp
 agnée du règlement.\n\nSe présenter 15mn avant le stage à l’accueil 
 du RACA Danse. Attention…les stages démarrent et finissent à l’heure
  !\n\nPas de remboursement pour des annulations \n\n	 \n
LOCATION:50 IMP DE LA FUTAIE 74960 ANNECY - FR
ORGANIZER:VISION DANSE
END:VEVENT
END:VCALENDAR
