BEGIN:VCALENDAR
VERSION:2.0
CALSCALE:GREGORIAN
METHOD:PUBLISH
BEGIN:VEVENT
SUMMARY:Spectacle Mai 2026 - 10e anniversaire : Représentation du samedi 
 16h30
DTSTART:20260523T203000Z
DTSTAMP:20260422T142322Z
CATEGORIES:
DESCRIPTION:Informations par rapport au spectacle :\nListe des groupes par
 ticipants à la représentation :\n\nLundi 17h00 - Pré-ballet 5-7 ans \n
 Lundi 17h  - Compétition contemporain \nLundi 19h  - Ballet lyrical ad
 ulte \nLundi 20h15 - Pointes 15 ans et +\nMardi 17h45 - Initiation à la 
 danse 3-6 ans \nMardi 18h15 - Compétition hip-hop \nMercredi 16h45 - In
 itiation à la danse 3-4 ans \nMercredi 17h45 - Hip-hop 7-8 ans \nMercre
 di 18h - Contemporain débutant \nMercredi 19h00 - Hip-hop adulte \nMerc
 redi 19h00 - Pré-compétition contemporain\nMercredi 20h - Contemporain e
 t jazz adulte \nJeudi 19h30 - Pré-compétition hip-hop \nSamedi 9h30 - 
 Initiation à la danse 5-6 ans \n\nOuverture des portes de la salle :\nLe
 s portes de la salle ouvriront 30 minutes avant le spectacle. Le hall d’
 entrée ouvrira une heure avant la représentation pour vous permettre d
 ’acheter des articles à offrir en cadeau aux danseurs.\nDurée approxim
 ative du spectacle : 1h15 \n \nInformation par rapport aux billets:\nPla
 cement en salle :\nLes billets sont numérotés et incluent une lettre cor
 respondant à la rangée. Le siège sélectionné lors de l'achat devra ê
 tre respecté dans la salle de spectacle.\n \nTarification :\nLe prix d'e
 ntrée est le même pour les adultes et les enfants.\n \nInformations imp
 ortantes pour les bébés (0-2 ans) :\n\nLes enfants de 0 à 2 ans bénéf
 icient d'une entrée gratuite\, mais un billet "Enfant 0-2 ans" à 0 $ doi
 t obligatoirement être sélectionné lors de l'achat.\nSans ce billet\, l
 ’enfant ne pourra pas être admis en raison des limites de capacité imp
 osées par le Service des incendies de la Ville de Sherbrooke.\nLes enfant
 s de 0 à 2 ans comptent dans la capacité maximale de la salle. Les bille
 ts "Enfant 0-2 ans" seront vérifiés à l'entrée pour s'assurer qu'ils s
 ont bien utilisés pour un enfant de cet âge.\nCes billets sont automatiq
 uement numérotés par le système\, mais les bébés doivent obligatoirem
 ent s'asseoir sur leur parent. Leur numéro de siège correspond donc à c
 elui du parent accompagnateur\, et non à celui inscrit sur leur billet.\n
 \n \nInformation importante pour les billets « fauteuil roulant »:\nLes
  billets « Fauteuil roulant » sont strictement réservés aux personnes 
 se déplaçant en fauteuil roulant. Ces places ne disposent pas de siège 
 ni de banc.\n \nAchat groupé recommandé :\nUne fois les billets acheté
 s\, il ne sera pas possible de changer de place. Si vous souhaitez être a
 ssis avec votre famille ou vos amis\, veuillez acheter vos billets ensembl
 e afin de sélectionner des sièges côte à côte.\n \nBillets non rembo
 ursables :\nVeuillez noter que tous les billets sont non remboursables.\n
  \nBillet obligatoire à l'entrée :\nAssurez-vous d'imprimer votre bille
 t ou de l'avoir accessible sur votre téléphone pour le présenter à l'e
 ntrée.\n \n 
LOCATION:200 Rue Terrill J1E 3B1 Sherbrooke - CA
ORGANIZER:Danse Ensemble Magog
END:VEVENT
END:VCALENDAR
