BEGIN:VCALENDAR
VERSION:2.0
CALSCALE:GREGORIAN
METHOD:PUBLISH
BEGIN:VEVENT
SUMMARY:Spectacle Mai 2026 - 10e anniversaire : Représentation du samedi 
 10h45
DTSTART:20260523T144500Z
DTSTAMP:20260422T142329Z
CATEGORIES:
DESCRIPTION:Informations par rapport au spectacle :\nListe des groupes par
 ticipants à la représentation :\n\nLundi 17h  - Compétition contempora
 in\nLundi 18h15  - Initiation au hip-hop 5-6 ans \nLundi 19h  - Ballet 
 lyrical adulte \nLundi 20h15 - Pointes 15 ans et +\nMardi 16h45  - Initi
 ation au hip-hop 3-4 ans \nMardi 17h  - Hip-hop 9-10 ans\nMardi 18h15 - 
 Compétition hip-hop \nMardi 19h30 - Contemporain intermédiaire \nMercr
 edi 19h00 - Hip-hop adulte \nMercredi 20h - Contemporain et jazz adulte 
 \nJeudi 19h00 - Ballet intermédiaire et pointes 10 ans et + \nSamedi 8h3
 0 - Initiation à la danse 3-4 ans \nSamedi 10h - Hip-hop 7-10 ans \nSam
 edi 10h30  - Pré-ballet et jazz 5-7 ans \n\nOuverture des portes de la 
 salle :\nLes portes de la salle ouvriront 30 minutes avant le spectacle. L
 e hall d’entrée ouvrira une heure avant la représentation pour vous pe
 rmettre d’acheter des articles à offrir en cadeau aux danseurs.\nDurée
  approximative du spectacle : 1h15 \n \nInformation par rapport aux bill
 ets:\nPlacement en salle :\nLes billets sont numérotés et incluent une l
 ettre correspondant à la rangée. Le siège sélectionné lors de l'achat
  devra être respecté dans la salle de spectacle.\n \nTarification :\nLe
  prix d'entrée est le même pour les adultes et les enfants.\n \nInforma
 tions importantes pour les bébés (0-2 ans) :\n\nLes enfants de 0 à 2 an
 s bénéficient d'une entrée gratuite\, mais un billet "Enfant 0-2 ans" 
 à 0 $ doit obligatoirement être sélectionné lors de l'achat.\nSans ce 
 billet\, l’enfant ne pourra pas être admis en raison des limites de cap
 acité imposées par le Service des incendies de la Ville de Sherbrooke.\n
 Les enfants de 0 à 2 ans comptent dans la capacité maximale de la salle.
  Les billets "Enfant 0-2 ans" seront vérifiés à l'entrée pour s'assure
 r qu'ils sont bien utilisés pour un enfant de cet âge.\nCes billets sont
  automatiquement numérotés par le système\, mais les bébés doivent ob
 ligatoirement s'asseoir sur leur parent. Leur numéro de siège correspond
  donc à celui du parent accompagnateur\, et non à celui inscrit sur leur
  billet.\n\n \nInformation importante pour les billets « fauteuil roulan
 t »:\nLes billets « Fauteuil roulant » sont strictement réservés aux 
 personnes se déplaçant en fauteuil roulant. Ces places ne disposent pas 
 de siège ni de banc.\n \nAchat groupé recommandé :\nUne fois les bille
 ts achetés\, il ne sera pas possible de changer de place. Si vous souhait
 ez être assis avec votre famille ou vos amis\, veuillez acheter vos bille
 ts ensemble afin de sélectionner des sièges côte à côte.\n \nBillets
  non remboursables :\nVeuillez noter que tous les billets sont non rembour
 sables.\n \nBillet obligatoire à l'entrée :\nAssurez-vous d'imprimer vo
 tre billet ou de l'avoir accessible sur votre téléphone pour le présent
 er à l'entrée.\n \n 
LOCATION:200 Rue Terrill J1E 3B1 Sherbrooke - CA
ORGANIZER:Danse Ensemble Magog
END:VEVENT
END:VCALENDAR
