BEGIN:VCALENDAR
VERSION:2.0
CALSCALE:GREGORIAN
METHOD:PUBLISH
BEGIN:VEVENT
SUMMARY:Atelier Confiance : venez expérimenter la construction de la conf
 iance
DTSTART:20260423T160000Z
DTEND:20260423T183000Z
DTSTAMP:20260421T125246Z
CATEGORIES:
DESCRIPTION:Venez vivre l'expérience de la confiance. Comment elle se con
 struit\, et peut se déconstruire. Un atelier clé pour tout dirigeant et 
 manager.\nAccueil à partir de 17h45. Démarrage à 18h.
LOCATION:44 rue Liandon 03300 CUSSET - FR
ORGANIZER:CamiNa
END:VEVENT
END:VCALENDAR
