BEGIN:VCALENDAR
VERSION:2.0
CALSCALE:GREGORIAN
METHOD:PUBLISH
BEGIN:VEVENT
SUMMARY:CARLUIS POR EL MUNDO - OPORTO
DTSTART:20260520T190000Z
DTEND:20260520T210000Z
DTSTAMP:20260425T220010Z
CATEGORIES:
DESCRIPTION:\n\n\nHola\, voy con mi gira más grande por el mundo. Cada en
 trada comprada te da el paso a la felicidad eterna.\n\n			 \n\n			 \n\nA
 BERTURA DE PUERTAS: 19:30H\n\nSHOWTIME: 20:00H\n\n+ INFO: @THEDOIIS\n\n\n\
 n\n		 \n\n\n	 \n
LOCATION:R. do Comércio do Porto 146 4050-295  Porto - PT
ORGANIZER:The Doiis Entertainment
END:VEVENT
END:VCALENDAR
