BEGIN:VCALENDAR
VERSION:2.0
CALSCALE:GREGORIAN
METHOD:PUBLISH
BEGIN:VEVENT
SUMMARY:CARLUIS POR EL MUNDO - LISBOA
DTSTART:20260521T180000Z
DTEND:20260521T200000Z
DTSTAMP:20260425T220011Z
CATEGORIES:
DESCRIPTION:\nHola\, voy con mi gira más grande por el mundo. Cada entrad
 a comprada te da el paso a la felicidad eterna.\n\n	 \n\n	 \n\nABERTURA 
 DE PUERTAS: 18:30H\n\nSHOWTIME: 19:00H\n\n+ INFO: @THEDOIIS\n
LOCATION:Av. Duque de Loulé 3A  1050-085  1050-085 - PT
ORGANIZER:The Doiis Entertainment
END:VEVENT
END:VCALENDAR
