BEGIN:VCALENDAR
VERSION:2.0
CALSCALE:GREGORIAN
METHOD:PUBLISH
BEGIN:VEVENT
SUMMARY:Spécial ETUDIANT Atelier pratique du Havening - Gérer le STRESS 
 DES EXAMENS
DTSTART:20260602T220000Z
DTEND:20260602T233000Z
DTSTAMP:20260421T013608Z
CATEGORIES:
DESCRIPTION:Apprenez à mieux comprendre et mieux gérer le STRESS à l'ap
 proche des examens. \n \nVenez en apprendre plus sur le fonctionnement d
 e votre système nerveux sur le STRESS  et pratiquer le havening  pour c
 almer le système nerveux pour les examens et reprogrammer le cerveau en 
 quelques gestes.\n \nComme la dernière fois :\nUn RDV convivial d’1h30
  rien que pour vous…\n \n- un peu de théorie... \n- une véritable s
 éance pratique\n- du soutien - du partage - des sourires et de la bonne h
 umeur \n\nEn savoir plus:\nreprogrammer son cerveau grace au havening\n 
 \nc'est quoi le havening\n \n \n \nRejoignez-moi :\nle Mardi 12 mai 2
 026\nde 18h00 à 19h30\n \nVoir les autres ateliers:\nAutres ateliers - 
 autres dates \n \nLocalisation : \nChez Bulles 2 bien-être (aux abymes r
 ue des finances - entre général bricolage et le siège du credit agricol
 e)\n voici la géolocalisation\n \nTarif : 30€ règlement nécessaire
  pour valider l'inscription\n \n5 places disponibles il n'y en aura pas p
 our tout le monde!!!\nSeules les inscriptions REGLEES sont prise en compte
 s\n 
GEO:16.2543946;-61.5187157
LOCATION:Rue des Finances 97142 Les Abymes - GP
ORGANIZER:Bulles 2 bien-être
END:VEVENT
END:VCALENDAR
