BEGIN:VCALENDAR
VERSION:2.0
CALSCALE:GREGORIAN
METHOD:PUBLISH
BEGIN:VEVENT
SUMMARY:Atelier pratique du Havening - SYNDROME de L'IMPOSTEUR
DTSTART:20260512T220000Z
DTSTAMP:20260421T013608Z
CATEGORIES:
DESCRIPTION:Et si cette petite voix qui te dit “tu n’es pas assez bien
 ”\, "tu n'es pas à la hauteur" n’était pas la vérité… mais juste
  une peur que l’on peut apaiser ?\nSi toi aussi tu attribues ta réussit
 e\, à la chance\, au timing\, aux circonstances... à  l'aide tu as reç
 u... \nBeaucoup de personnes brillantes vivent avec le syndrome de l’im
 posteur : doute permanent\, peur de ne pas être à la hauteur\, difficult
 é à reconnaître ses réussites.\nEs tu conscient(e) que cela génère d
 e l'anxiété\, du surinvetissement\, et à la longue ca t'épuise? surtou
 t pour des personnes exigeantes\, compétentes\, très investies comme toi
 ! \n \nDans cet atelier nous irons à la rencontre de ce saboteur intern
 e\, pour comprendre comment il fonctionne\, arriver à le faire taire et a
 vec le havening. Tu apprendras à apaiser ces peurs\, tes émotions et en
 fin pouvoir reprendre ta juste place.\nViens en apprendre plus sur le fonc
 tionnement de votre système nerveux s  et pratiquer le havening  pour c
 almer le système nerveux et reprogrammer le cerveau en quelques gestes.\n
  \nComme la dernière fois :\nUn RDV convivial d’1h30 rien que pour vou
 s…\n \n- un peu de théorie... \n- une véritable séance pratique\n- 
 du soutien - du partage - des sourires et de la bonne humeur \n\nEn savoi
 r plus:\nreprogrammer son cerveau grace au havening\n \nc'est quoi le hav
 ening\n \n \n \nRejoignez-moi :\nle Mardi 12 mai 2026\nde 18h00 à 1
 9h30\n \nVoir les autres ateliers:\nAutres ateliers - autres dates \n \n
 Localisation : \nChez Bulles 2 bien-être (aux abymes rue des finances - e
 ntre général bricolage et le siège du credit agricole)\n voici la géo
 localisation\n \nTarif : 30€ règlement nécessaire pour valider l'ins
 cription\n \n5 places disponibles il n'y en aura pas pour tout le monde!!
 !\nSeules les inscriptions REGLEES sont prise en comptes\n 
GEO:16.2543946;-61.5187157
LOCATION:Rue des Finances 97142 Les Abymes - GP
ORGANIZER:Bulles 2 bien-être
END:VEVENT
END:VCALENDAR
