BEGIN:VCALENDAR
VERSION:2.0
CALSCALE:GREGORIAN
METHOD:PUBLISH
BEGIN:VEVENT
SUMMARY:Atelier DECOUVERTE du Havening - thème à venir
DTSTART:20260609T220000Z
DTEND:20260609T233000Z
DTSTAMP:20260421T013555Z
CATEGORIES:
DESCRIPTION:Booster votre confiance - réduisez votre stress - apprenez à
  mieux gérer vos émotions... \nVenez apprendre et pratiquer le havening
  (havening techniques) une technique simple pour calmer le système nerve
 ux et reprogrammer le cerveau en quelques gestes.\n \nComment çà se pas
 se?\nUn RDV convivial d’1h30 rien que pour vous…\n\nun peu de théorie
 ... histoire de savoir de quoi on parle et comment çà fonctionne ?\nune 
 véritable séance pratique\ndu soutien - du partage - des sourires et de 
 la bonne humeur \n\nRepartez avec une fiche mémo de la technique et un n
 ouvel outil de développement personnel à expérimenter.\nEn savoir plus:
 \n\nreprogrammer son cerveau grace au havening\nc'est quoi le havening\n\n
  \nRejoignez-moi :\nle Mardi 09 Juin 2026\nde 18h00 à 19h30\n \nautr
 es ateliers - autres dates\n \nLocalisation : \nChez Bulles 2 bien-être
  (aux abymes rue des finances - entre général bricolage et le siège du 
 credit agricole)\n voici la géolocalisation\n \nTarif : 30€ règlemen
 t nécessaire pour valider l'inscription\n \n5 places disponibles il n'y 
 en aura pas pour tout le monde!!!\nSeules les inscriptions REGLEES sont pr
 ise en comptes\n 
GEO:16.2543946;-61.5187157
LOCATION:Rue des Finances 97142 Les Abymes - GP
ORGANIZER:Bulles 2 bien-être
END:VEVENT
END:VCALENDAR
