BEGIN:VCALENDAR
VERSION:2.0
CALSCALE:GREGORIAN
METHOD:PUBLISH
BEGIN:VEVENT
SUMMARY:LIVE! Sainte Nicole invite Beaux Draps
DTSTART:20260407T173000Z
DTSTAMP:20260422T085027Z
CATEGORIES:
DESCRIPTION:\n	Tous les mardis soir et parfois les jeudis\, de 19h30 à mi
 nuit et demie\, Sainte Nicole accueille au Cancan Pigalle des artistes mus
 icien•ne•s issu•e•s du courant de la nouvelle vague francaise pour
  des dîners-concerts. L'occasion idéale pour découvrir de nouveaux tale
 nts de notre scène musicale nationale si riche! Le mardi 7 avril Sainte N
 icole invite Beaux Draps.\n\nBeaux draps propose une dream pop planante qu
 i invite au voyage et au rêve. Un poisson perdu dans un champ\, la traver
 sée d’une montagne d’écume\, un train tiré par un rhinocéros. Ce b
 estiaire imagé et onirique incite à une libération des imaginaires. Por
 té par deux voix sensibles\, la texture des claviers et une guitare éth
 érée\, le trio crée un monde de paysages sonores\, entre douceur mélan
 colique et poésie surréaliste. Les morceaux explorent les cycles d’amo
 ur et de désamour comme autant de fragments d’histoires dans un premier
  EP à paraître en 2026.\n\n	 \n\nLe concert débutera à 20h30. Vous po
 uvez vous présenter à partir de 19h30 afin de faciliter au mieux votre p
 lacement dans le restaurant et découvrir notre large gamme de petits plat
 s maison préparés avec amour\, et tous nos cocktails création ou intemp
 orels. Vous pourrez ainsi également commencer à échanger avec nos artis
 tes\, et vous assurer d'avoir la meilleure table!\n\n	 \n\n	CONDITIONS D'
 ACCES:\n\n	 \n\n	Réservation sur ce site fortement recommandée. Notre c
 apacité d'accueil est restreinte\, nous ne pouvons donc pas garantir notr
 e disponibilité sans réservation par billet. Le placement est libre\, po
 ur avoir les meilleures places\, nous vous recommandons de venir tôt ! La
  consommation d'alcool est soumise à la consommation de nourriture sur pl
 ace\, du fait de notre licence restauration.\n\n	 \n\n	SUIVEZ-NOUS!\n\n	
  \n\n	SITE: www.lecancanpigalle.com\n\n	 \n\n	FB: www.fb.com/cancanpigal
 le\n\n	 \n\n	IG: www.instagram.com/cancanpigalle\n\n	 \n\n	A SAVOIR:\n\n
 	 \n\n	La billetterie permet de rémunérer nos artistes en cachet.\n\n	
  \n\n	 \n\n	 \n\n	Licence 1: D-2021-001745\n\n	 \n\n	Licence 2: D-2021
 -002693\n\n	 \n\n	Licence 3: D-2021-002694\n
LOCATION:3 rue de Douai 75009  Paris - FR
ORGANIZER:SAS LE CANCAN
END:VEVENT
END:VCALENDAR
