BEGIN:VCALENDAR
VERSION:2.0
CALSCALE:GREGORIAN
METHOD:PUBLISH
BEGIN:VEVENT
SUMMARY:Spectacle de Danse "Fragments - Corps en chemin"
DTSTART:20260510T140000Z
DTSTAMP:20260419T184658Z
CATEGORIES:
DESCRIPTION:Ce spectacle représente le travail effectué avec les danseur
 s lors de la saison 2025-2026. L'idée de ce spectacle\, la mise en scène
  sont de Diane Tsitera.\nSpectacle Enfant 16h: Les chorégraphies sont sig
 nées Diane Tsitera\, Sophie Vergnes\, Emma Delburg.\nSpectacle Ados/Adult
 e 20h: Les chorégraphies sont signées Diane Tsitera en étroite collabor
 ation avec les interprètes. Chorégraphie groupe adultes signée Sophie V
 ergnes\n \n \n 
GEO:44.8615004;-0.5258280000000001
LOCATION:1 Rue Aristide Briand 33150 Cenon - FR
ORGANIZER:Ecole de danse 4ème art
END:VEVENT
END:VCALENDAR
