BEGIN:VCALENDAR
VERSION:2.0
CALSCALE:GREGORIAN
METHOD:PUBLISH
BEGIN:VEVENT
SUMMARY:Le Bowling de la Saint Patrick
DTSTART:20260316T170000Z
DTEND:20260318T000000Z
DTSTAMP:20260419T130817Z
CATEGORIES:
DESCRIPTION:Cette Billetterie vous permet de réserver 4 places pour l'une
  des 2 Soirées Bowling à volonté du Lundi 16 & Mardi 17 Mars à Bowlcen
 ter Échirolles.\nUne seule personne commande à son nom pour 4. Elle doit
  impérativement posséder la Carte Emblem Grenoble 2025 / 2026 et en indi
 quer le numéro\, qui est associé à son nom et nous sert donc de contrô
 le.\nLe jour J\, présentez-vous entre 18h et 20h MAXIMUM\, accompagné de
 s 3 personnes de votre choix\, muni de votre Carte Emblem et du ticket ave
 c QR Code envoyé par Weezevent suite à votre commande (imprimé ou sur t
 éléphone). Attention à bien saisir correctement votre adresse mail pour
  le recevoir ! \nBillet non échangeable\, non revendable et non rembours
 able.
GEO:45.1507527;5.716895
LOCATION:19 Avenue de Grugliasco 38130 Échirolles - FR
ORGANIZER:EI Jérémy Servary
END:VEVENT
END:VCALENDAR
